Workbook

Sheet Ispunjenje OM
A2: Izvješće o ispunjenju okvirnih mjerila za period
B3: Period: | D3: 01.01.2026. | G3: 31.12.2026.
A5: Tablica sadrži broj predmeta (s težinskim faktorom!) koje je određeni sudac riješio u određenom području suđenja po okvirnim mjerilima.
A6: Područje suđenja Sudac | B6: PARNIČNI PREDMETI | C6: IZVANPARNIČNI PREDMETI | D6: OSTAVINSKI PREDMETI | E6: OVRŠNI PREDMETI | F6: KAZNENI PREDMETI | G6: PREKRŠAJNI PREDMETI | H6: ZEMLJIŠNO KNJIŽNI PREDMETI | I6: BROJ RIJEŠENIH PREDMETA | J6: RIJEŠENIH PREDMETA S TEŽINSKIM FAKTORIMA | K6: OSLOBOĐENJE OD OKVIRNIH MJERILA [%] | L6: RADNIH DANA | M6: ISPUNJENJE OKVIRNIH MJERILA [%] | N6: ISPUNJENJE OKVIRNIH MJERILA S OSLOBOĐENJEM [%]
A7: Aničić Keti | B7: =SUM('Ispunjenje OM - detaljno'!B10+'Ispunjenje OM - detaljno'!C10+'Ispunjenje OM - detaljno'!D10+'Ispunjenje OM - detaljno'!E10+'Ispunjenje OM - detaljno'!F10+'Ispunjenje OM - detaljno'!G10+'Ispunjenje OM - detaljno'!H10+'Ispunjenje OM - detaljno'!I10+'Ispunjenje OM - detaljno'!J10+'Ispunjenje OM - detaljno'!K10+'Ispunjenje OM - detaljno'!L10+'Ispunjenje OM - detaljno'!M10+'Ispunjenje OM - detaljno'!N10+'Ispunjenje OM - detaljno'!O10+'Ispunjenje OM - detaljno'!P10+'Ispunjenje OM - detaljno'!Q10) -> 144 | C7: =SUM('Ispunjenje OM - detaljno'!R10+'Ispunjenje OM - detaljno'!S10+'Ispunjenje OM - detaljno'!T10+'Ispunjenje OM - detaljno'!U10+'Ispunjenje OM - detaljno'!V10+'Ispunjenje OM - detaljno'!W10+'Ispunjenje OM - detaljno'!X10+'Ispunjenje OM - detaljno'!Y10) -> 74 | D7: =SUM('Ispunjenje OM - detaljno'!Z10+'Ispunjenje OM - detaljno'!AA10) -> 31 | E7: =SUM('Ispunjenje OM - detaljno'!AB10+'Ispunjenje OM - detaljno'!AC10+'Ispunjenje OM - detaljno'!AD10+'Ispunjenje OM - detaljno'!AE10+'Ispunjenje OM - detaljno'!AF10+'Ispunjenje OM - detaljno'!AG10+'Ispunjenje OM - detaljno'!AH10+'Ispunjenje OM - detaljno'!AI10+'Ispunjenje OM - detaljno'!AJ10+'Ispunjenje OM - detaljno'!AK10+'Ispunjenje OM - detaljno'!AL10+'Ispunjenje OM - detaljno'!AM10) -> 224.2 | F7: =SUM('Ispunjenje OM - detaljno'!AN10+'Ispunjenje OM - detaljno'!AO10+'Ispunjenje OM - detaljno'!AP10+'Ispunjenje OM - detaljno'!AQ10+'Ispunjenje OM - detaljno'!AR10+'Ispunjenje OM - detaljno'!AS10+'Ispunjenje OM - detaljno'!AT10+'Ispunjenje OM - detaljno'!AU10) -> 0 | G7: =SUM('Ispunjenje OM - detaljno'!AV10+'Ispunjenje OM - detaljno'!AW10+'Ispunjenje OM - detaljno'!AX10+'Ispunjenje OM - detaljno'!AY10+'Ispunjenje OM - detaljno'!AZ10+'Ispunjenje OM - detaljno'!BA10+'Ispunjenje OM - detaljno'!BB10+'Ispunjenje OM - detaljno'!BC10+'Ispunjenje OM - detaljno'!BD10+'Ispunjenje OM - detaljno'!BE10) -> 0 | H7: =SUM('Ispunjenje OM - detaljno'!BF10+'Ispunjenje OM - detaljno'!BG10) -> 7 | I7: ='Ispunjenje OM - detaljno'!BH10 -> 479 | J7: ='Ispunjenje OM - detaljno'!BI10 -> 480.2 | K7: ='Ispunjenje OM - detaljno'!BJ10 -> 0 | L7: ='Ispunjenje OM - detaljno'!BK10 -> 199 | M7: ='Ispunjenje OM - detaljno'!BL10 -> 75.59 | N7: ='Ispunjenje OM - detaljno'!BM10 -> 75.59
A8: Babić Sven | B8: =SUM('Ispunjenje OM - detaljno'!B11+'Ispunjenje OM - detaljno'!C11+'Ispunjenje OM - detaljno'!D11+'Ispunjenje OM - detaljno'!E11+'Ispunjenje OM - detaljno'!F11+'Ispunjenje OM - detaljno'!G11+'Ispunjenje OM - detaljno'!H11+'Ispunjenje OM - detaljno'!I11+'Ispunjenje OM - detaljno'!J11+'Ispunjenje OM - detaljno'!K11+'Ispunjenje OM - detaljno'!L11+'Ispunjenje OM - detaljno'!M11+'Ispunjenje OM - detaljno'!N11+'Ispunjenje OM - detaljno'!O11+'Ispunjenje OM - detaljno'!P11+'Ispunjenje OM - detaljno'!Q11) -> 180.9 | C8: =SUM('Ispunjenje OM - detaljno'!R11+'Ispunjenje OM - detaljno'!S11+'Ispunjenje OM - detaljno'!T11+'Ispunjenje OM - detaljno'!U11+'Ispunjenje OM - detaljno'!V11+'Ispunjenje OM - detaljno'!W11+'Ispunjenje OM - detaljno'!X11+'Ispunjenje OM - detaljno'!Y11) -> 11 | D8: =SUM('Ispunjenje OM - detaljno'!Z11+'Ispunjenje OM - detaljno'!AA11) -> 0 | E8: =SUM('Ispunjenje OM - detaljno'!AB11+'Ispunjenje OM - detaljno'!AC11+'Ispunjenje OM - detaljno'!AD11+'Ispunjenje OM - detaljno'!AE11+'Ispunjenje OM - detaljno'!AF11+'Ispunjenje OM - detaljno'!AG11+'Ispunjenje OM - detaljno'!AH11+'Ispunjenje OM - detaljno'!AI11+'Ispunjenje OM - detaljno'!AJ11+'Ispunjenje OM - detaljno'!AK11+'Ispunjenje OM - detaljno'!AL11+'Ispunjenje OM - detaljno'!AM11) -> 0 | F8: =SUM('Ispunjenje OM - detaljno'!AN11+'Ispunjenje OM - detaljno'!AO11+'Ispunjenje OM - detaljno'!AP11+'Ispunjenje OM - detaljno'!AQ11+'Ispunjenje OM - detaljno'!AR11+'Ispunjenje OM - detaljno'!AS11+'Ispunjenje OM - detaljno'!AT11+'Ispunjenje OM - detaljno'!AU11) -> 0 | G8: =SUM('Ispunjenje OM - detaljno'!AV11+'Ispunjenje OM - detaljno'!AW11+'Ispunjenje OM - detaljno'!AX11+'Ispunjenje OM - detaljno'!AY11+'Ispunjenje OM - detaljno'!AZ11+'Ispunjenje OM - detaljno'!BA11+'Ispunjenje OM - detaljno'!BB11+'Ispunjenje OM - detaljno'!BC11+'Ispunjenje OM - detaljno'!BD11+'Ispunjenje OM - detaljno'!BE11) -> 0 | H8: =SUM('Ispunjenje OM - detaljno'!BF11+'Ispunjenje OM - detaljno'!BG11) -> 0 | I8: ='Ispunjenje OM - detaljno'!BH11 -> 186 | J8: ='Ispunjenje OM - detaljno'!BI11 -> 191.9 | K8: ='Ispunjenje OM - detaljno'!BJ11 -> 0 | L8: ='Ispunjenje OM - detaljno'!BK11 -> 219 | M8: ='Ispunjenje OM - detaljno'!BL11 -> 62.16 | N8: ='Ispunjenje OM - detaljno'!BM11 -> 62.16
A9: Barbić Alen | B9: =SUM('Ispunjenje OM - detaljno'!B12+'Ispunjenje OM - detaljno'!C12+'Ispunjenje OM - detaljno'!D12+'Ispunjenje OM - detaljno'!E12+'Ispunjenje OM - detaljno'!F12+'Ispunjenje OM - detaljno'!G12+'Ispunjenje OM - detaljno'!H12+'Ispunjenje OM - detaljno'!I12+'Ispunjenje OM - detaljno'!J12+'Ispunjenje OM - detaljno'!K12+'Ispunjenje OM - detaljno'!L12+'Ispunjenje OM - detaljno'!M12+'Ispunjenje OM - detaljno'!N12+'Ispunjenje OM - detaljno'!O12+'Ispunjenje OM - detaljno'!P12+'Ispunjenje OM - detaljno'!Q12) -> 225 | C9: =SUM('Ispunjenje OM - detaljno'!R12+'Ispunjenje OM - detaljno'!S12+'Ispunjenje OM - detaljno'!T12+'Ispunjenje OM - detaljno'!U12+'Ispunjenje OM - detaljno'!V12+'Ispunjenje OM - detaljno'!W12+'Ispunjenje OM - detaljno'!X12+'Ispunjenje OM - detaljno'!Y12) -> 21 | D9: =SUM('Ispunjenje OM - detaljno'!Z12+'Ispunjenje OM - detaljno'!AA12) -> 0 | E9: =SUM('Ispunjenje OM - detaljno'!AB12+'Ispunjenje OM - detaljno'!AC12+'Ispunjenje OM - detaljno'!AD12+'Ispunjenje OM - detaljno'!AE12+'Ispunjenje OM - detaljno'!AF12+'Ispunjenje OM - detaljno'!AG12+'Ispunjenje OM - detaljno'!AH12+'Ispunjenje OM - detaljno'!AI12+'Ispunjenje OM - detaljno'!AJ12+'Ispunjenje OM - detaljno'!AK12+'Ispunjenje OM - detaljno'!AL12+'Ispunjenje OM - detaljno'!AM12) -> 2 | F9: =SUM('Ispunjenje OM - detaljno'!AN12+'Ispunjenje OM - detaljno'!AO12+'Ispunjenje OM - detaljno'!AP12+'Ispunjenje OM - detaljno'!AQ12+'Ispunjenje OM - detaljno'!AR12+'Ispunjenje OM - detaljno'!AS12+'Ispunjenje OM - detaljno'!AT12+'Ispunjenje OM - detaljno'!AU12) -> 0 | G9: =SUM('Ispunjenje OM - detaljno'!AV12+'Ispunjenje OM - detaljno'!AW12+'Ispunjenje OM - detaljno'!AX12+'Ispunjenje OM - detaljno'!AY12+'Ispunjenje OM - detaljno'!AZ12+'Ispunjenje OM - detaljno'!BA12+'Ispunjenje OM - detaljno'!BB12+'Ispunjenje OM - detaljno'!BC12+'Ispunjenje OM - detaljno'!BD12+'Ispunjenje OM - detaljno'!BE12) -> 0 | H9: =SUM('Ispunjenje OM - detaljno'!BF12+'Ispunjenje OM - detaljno'!BG12) -> 0 | I9: ='Ispunjenje OM - detaljno'!BH12 -> 236 | J9: ='Ispunjenje OM - detaljno'!BI12 -> 248 | K9: ='Ispunjenje OM - detaljno'!BJ12 -> 20 | L9: ='Ispunjenje OM - detaljno'!BK12 -> 218 | M9: ='Ispunjenje OM - detaljno'!BL12 -> 88.16 | N9: ='Ispunjenje OM - detaljno'!BM12 -> 108.16
A10: Božić Turina Sanja | B10: =SUM('Ispunjenje OM - detaljno'!B13+'Ispunjenje OM - detaljno'!C13+'Ispunjenje OM - detaljno'!D13+'Ispunjenje OM - detaljno'!E13+'Ispunjenje OM - detaljno'!F13+'Ispunjenje OM - detaljno'!G13+'Ispunjenje OM - detaljno'!H13+'Ispunjenje OM - detaljno'!I13+'Ispunjenje OM - detaljno'!J13+'Ispunjenje OM - detaljno'!K13+'Ispunjenje OM - detaljno'!L13+'Ispunjenje OM - detaljno'!M13+'Ispunjenje OM - detaljno'!N13+'Ispunjenje OM - detaljno'!O13+'Ispunjenje OM - detaljno'!P13+'Ispunjenje OM - detaljno'!Q13) -> 0 | C10: =SUM('Ispunjenje OM - detaljno'!R13+'Ispunjenje OM - detaljno'!S13+'Ispunjenje OM - detaljno'!T13+'Ispunjenje OM - detaljno'!U13+'Ispunjenje OM - detaljno'!V13+'Ispunjenje OM - detaljno'!W13+'Ispunjenje OM - detaljno'!X13+'Ispunjenje OM - detaljno'!Y13) -> 0 | D10: =SUM('Ispunjenje OM - detaljno'!Z13+'Ispunjenje OM - detaljno'!AA13) -> 0 | E10: =SUM('Ispunjenje OM - detaljno'!AB13+'Ispunjenje OM - detaljno'!AC13+'Ispunjenje OM - detaljno'!AD13+'Ispunjenje OM - detaljno'!AE13+'Ispunjenje OM - detaljno'!AF13+'Ispunjenje OM - detaljno'!AG13+'Ispunjenje OM - detaljno'!AH13+'Ispunjenje OM - detaljno'!AI13+'Ispunjenje OM - detaljno'!AJ13+'Ispunjenje OM - detaljno'!AK13+'Ispunjenje OM - detaljno'!AL13+'Ispunjenje OM - detaljno'!AM13) -> 0 | F10: =SUM('Ispunjenje OM - detaljno'!AN13+'Ispunjenje OM - detaljno'!AO13+'Ispunjenje OM - detaljno'!AP13+'Ispunjenje OM - detaljno'!AQ13+'Ispunjenje OM - detaljno'!AR13+'Ispunjenje OM - detaljno'!AS13+'Ispunjenje OM - detaljno'!AT13+'Ispunjenje OM - detaljno'!AU13) -> 0 | G10: =SUM('Ispunjenje OM - detaljno'!AV13+'Ispunjenje OM - detaljno'!AW13+'Ispunjenje OM - detaljno'!AX13+'Ispunjenje OM - detaljno'!AY13+'Ispunjenje OM - detaljno'!AZ13+'Ispunjenje OM - detaljno'!BA13+'Ispunjenje OM - detaljno'!BB13+'Ispunjenje OM - detaljno'!BC13+'Ispunjenje OM - detaljno'!BD13+'Ispunjenje OM - detaljno'!BE13) -> 435 | H10: =SUM('Ispunjenje OM - detaljno'!BF13+'Ispunjenje OM - detaljno'!BG13) -> 0 | I10: ='Ispunjenje OM - detaljno'!BH13 -> 435 | J10: ='Ispunjenje OM - detaljno'!BI13 -> 435 | K10: ='Ispunjenje OM - detaljno'!BJ13 -> 0 | L10: ='Ispunjenje OM - detaljno'!BK13 -> 211 | M10: ='Ispunjenje OM - detaljno'!BL13 -> 71.35 | N10: ='Ispunjenje OM - detaljno'!BM13 -> 71.35
A11: Brljafa Nina | B11: =SUM('Ispunjenje OM - detaljno'!B14+'Ispunjenje OM - detaljno'!C14+'Ispunjenje OM - detaljno'!D14+'Ispunjenje OM - detaljno'!E14+'Ispunjenje OM - detaljno'!F14+'Ispunjenje OM - detaljno'!G14+'Ispunjenje OM - detaljno'!H14+'Ispunjenje OM - detaljno'!I14+'Ispunjenje OM - detaljno'!J14+'Ispunjenje OM - detaljno'!K14+'Ispunjenje OM - detaljno'!L14+'Ispunjenje OM - detaljno'!M14+'Ispunjenje OM - detaljno'!N14+'Ispunjenje OM - detaljno'!O14+'Ispunjenje OM - detaljno'!P14+'Ispunjenje OM - detaljno'!Q14) -> 13 | C11: =SUM('Ispunjenje OM - detaljno'!R14+'Ispunjenje OM - detaljno'!S14+'Ispunjenje OM - detaljno'!T14+'Ispunjenje OM - detaljno'!U14+'Ispunjenje OM - detaljno'!V14+'Ispunjenje OM - detaljno'!W14+'Ispunjenje OM - detaljno'!X14+'Ispunjenje OM - detaljno'!Y14) -> 68 | D11: =SUM('Ispunjenje OM - detaljno'!Z14+'Ispunjenje OM - detaljno'!AA14) -> 45.4 | E11: =SUM('Ispunjenje OM - detaljno'!AB14+'Ispunjenje OM - detaljno'!AC14+'Ispunjenje OM - detaljno'!AD14+'Ispunjenje OM - detaljno'!AE14+'Ispunjenje OM - detaljno'!AF14+'Ispunjenje OM - detaljno'!AG14+'Ispunjenje OM - detaljno'!AH14+'Ispunjenje OM - detaljno'!AI14+'Ispunjenje OM - detaljno'!AJ14+'Ispunjenje OM - detaljno'!AK14+'Ispunjenje OM - detaljno'!AL14+'Ispunjenje OM - detaljno'!AM14) -> 220.6 | F11: =SUM('Ispunjenje OM - detaljno'!AN14+'Ispunjenje OM - detaljno'!AO14+'Ispunjenje OM - detaljno'!AP14+'Ispunjenje OM - detaljno'!AQ14+'Ispunjenje OM - detaljno'!AR14+'Ispunjenje OM - detaljno'!AS14+'Ispunjenje OM - detaljno'!AT14+'Ispunjenje OM - detaljno'!AU14) -> 0 | G11: =SUM('Ispunjenje OM - detaljno'!AV14+'Ispunjenje OM - detaljno'!AW14+'Ispunjenje OM - detaljno'!AX14+'Ispunjenje OM - detaljno'!AY14+'Ispunjenje OM - detaljno'!AZ14+'Ispunjenje OM - detaljno'!BA14+'Ispunjenje OM - detaljno'!BB14+'Ispunjenje OM - detaljno'!BC14+'Ispunjenje OM - detaljno'!BD14+'Ispunjenje OM - detaljno'!BE14) -> 0 | H11: =SUM('Ispunjenje OM - detaljno'!BF14+'Ispunjenje OM - detaljno'!BG14) -> 19 | I11: ='Ispunjenje OM - detaljno'!BH14 -> 363 | J11: ='Ispunjenje OM - detaljno'!BI14 -> 366 | K11: ='Ispunjenje OM - detaljno'!BJ14 -> 0 | L11: ='Ispunjenje OM - detaljno'!BK14 -> 210 | M11: ='Ispunjenje OM - detaljno'!BL14 -> 49.41 | N11: ='Ispunjenje OM - detaljno'!BM14 -> 49.41
A12: Ciglenečki Nina | B12: =SUM('Ispunjenje OM - detaljno'!B15+'Ispunjenje OM - detaljno'!C15+'Ispunjenje OM - detaljno'!D15+'Ispunjenje OM - detaljno'!E15+'Ispunjenje OM - detaljno'!F15+'Ispunjenje OM - detaljno'!G15+'Ispunjenje OM - detaljno'!H15+'Ispunjenje OM - detaljno'!I15+'Ispunjenje OM - detaljno'!J15+'Ispunjenje OM - detaljno'!K15+'Ispunjenje OM - detaljno'!L15+'Ispunjenje OM - detaljno'!M15+'Ispunjenje OM - detaljno'!N15+'Ispunjenje OM - detaljno'!O15+'Ispunjenje OM - detaljno'!P15+'Ispunjenje OM - detaljno'!Q15) -> 0 | C12: =SUM('Ispunjenje OM - detaljno'!R15+'Ispunjenje OM - detaljno'!S15+'Ispunjenje OM - detaljno'!T15+'Ispunjenje OM - detaljno'!U15+'Ispunjenje OM - detaljno'!V15+'Ispunjenje OM - detaljno'!W15+'Ispunjenje OM - detaljno'!X15+'Ispunjenje OM - detaljno'!Y15) -> 0 | D12: =SUM('Ispunjenje OM - detaljno'!Z15+'Ispunjenje OM - detaljno'!AA15) -> 0 | E12: =SUM('Ispunjenje OM - detaljno'!AB15+'Ispunjenje OM - detaljno'!AC15+'Ispunjenje OM - detaljno'!AD15+'Ispunjenje OM - detaljno'!AE15+'Ispunjenje OM - detaljno'!AF15+'Ispunjenje OM - detaljno'!AG15+'Ispunjenje OM - detaljno'!AH15+'Ispunjenje OM - detaljno'!AI15+'Ispunjenje OM - detaljno'!AJ15+'Ispunjenje OM - detaljno'!AK15+'Ispunjenje OM - detaljno'!AL15+'Ispunjenje OM - detaljno'!AM15) -> 0 | F12: =SUM('Ispunjenje OM - detaljno'!AN15+'Ispunjenje OM - detaljno'!AO15+'Ispunjenje OM - detaljno'!AP15+'Ispunjenje OM - detaljno'!AQ15+'Ispunjenje OM - detaljno'!AR15+'Ispunjenje OM - detaljno'!AS15+'Ispunjenje OM - detaljno'!AT15+'Ispunjenje OM - detaljno'!AU15) -> 158.6 | G12: =SUM('Ispunjenje OM - detaljno'!AV15+'Ispunjenje OM - detaljno'!AW15+'Ispunjenje OM - detaljno'!AX15+'Ispunjenje OM - detaljno'!AY15+'Ispunjenje OM - detaljno'!AZ15+'Ispunjenje OM - detaljno'!BA15+'Ispunjenje OM - detaljno'!BB15+'Ispunjenje OM - detaljno'!BC15+'Ispunjenje OM - detaljno'!BD15+'Ispunjenje OM - detaljno'!BE15) -> 0 | H12: =SUM('Ispunjenje OM - detaljno'!BF15+'Ispunjenje OM - detaljno'!BG15) -> 0 | I12: ='Ispunjenje OM - detaljno'!BH15 -> 158 | J12: ='Ispunjenje OM - detaljno'!BI15 -> 158.6 | K12: ='Ispunjenje OM - detaljno'!BJ15 -> 0 | L12: ='Ispunjenje OM - detaljno'!BK15 -> 206 | M12: ='Ispunjenje OM - detaljno'!BL15 -> 70.13 | N12: ='Ispunjenje OM - detaljno'!BM15 -> 70.13
A13: Frančula Marinović Lorena | B13: =SUM('Ispunjenje OM - detaljno'!B16+'Ispunjenje OM - detaljno'!C16+'Ispunjenje OM - detaljno'!D16+'Ispunjenje OM - detaljno'!E16+'Ispunjenje OM - detaljno'!F16+'Ispunjenje OM - detaljno'!G16+'Ispunjenje OM - detaljno'!H16+'Ispunjenje OM - detaljno'!I16+'Ispunjenje OM - detaljno'!J16+'Ispunjenje OM - detaljno'!K16+'Ispunjenje OM - detaljno'!L16+'Ispunjenje OM - detaljno'!M16+'Ispunjenje OM - detaljno'!N16+'Ispunjenje OM - detaljno'!O16+'Ispunjenje OM - detaljno'!P16+'Ispunjenje OM - detaljno'!Q16) -> 0 | C13: =SUM('Ispunjenje OM - detaljno'!R16+'Ispunjenje OM - detaljno'!S16+'Ispunjenje OM - detaljno'!T16+'Ispunjenje OM - detaljno'!U16+'Ispunjenje OM - detaljno'!V16+'Ispunjenje OM - detaljno'!W16+'Ispunjenje OM - detaljno'!X16+'Ispunjenje OM - detaljno'!Y16) -> 0 | D13: =SUM('Ispunjenje OM - detaljno'!Z16+'Ispunjenje OM - detaljno'!AA16) -> 0 | E13: =SUM('Ispunjenje OM - detaljno'!AB16+'Ispunjenje OM - detaljno'!AC16+'Ispunjenje OM - detaljno'!AD16+'Ispunjenje OM - detaljno'!AE16+'Ispunjenje OM - detaljno'!AF16+'Ispunjenje OM - detaljno'!AG16+'Ispunjenje OM - detaljno'!AH16+'Ispunjenje OM - detaljno'!AI16+'Ispunjenje OM - detaljno'!AJ16+'Ispunjenje OM - detaljno'!AK16+'Ispunjenje OM - detaljno'!AL16+'Ispunjenje OM - detaljno'!AM16) -> 0 | F13: =SUM('Ispunjenje OM - detaljno'!AN16+'Ispunjenje OM - detaljno'!AO16+'Ispunjenje OM - detaljno'!AP16+'Ispunjenje OM - detaljno'!AQ16+'Ispunjenje OM - detaljno'!AR16+'Ispunjenje OM - detaljno'!AS16+'Ispunjenje OM - detaljno'!AT16+'Ispunjenje OM - detaljno'!AU16) -> 0 | G13: =SUM('Ispunjenje OM - detaljno'!AV16+'Ispunjenje OM - detaljno'!AW16+'Ispunjenje OM - detaljno'!AX16+'Ispunjenje OM - detaljno'!AY16+'Ispunjenje OM - detaljno'!AZ16+'Ispunjenje OM - detaljno'!BA16+'Ispunjenje OM - detaljno'!BB16+'Ispunjenje OM - detaljno'!BC16+'Ispunjenje OM - detaljno'!BD16+'Ispunjenje OM - detaljno'!BE16) -> 421 | H13: =SUM('Ispunjenje OM - detaljno'!BF16+'Ispunjenje OM - detaljno'!BG16) -> 0 | I13: ='Ispunjenje OM - detaljno'!BH16 -> 421 | J13: ='Ispunjenje OM - detaljno'!BI16 -> 421 | K13: ='Ispunjenje OM - detaljno'!BJ16 -> 0 | L13: ='Ispunjenje OM - detaljno'!BK16 -> 215 | M13: ='Ispunjenje OM - detaljno'!BL16 -> 63.89 | N13: ='Ispunjenje OM - detaljno'!BM16 -> 63.89
A14: Golja Erica | B14: =SUM('Ispunjenje OM - detaljno'!B17+'Ispunjenje OM - detaljno'!C17+'Ispunjenje OM - detaljno'!D17+'Ispunjenje OM - detaljno'!E17+'Ispunjenje OM - detaljno'!F17+'Ispunjenje OM - detaljno'!G17+'Ispunjenje OM - detaljno'!H17+'Ispunjenje OM - detaljno'!I17+'Ispunjenje OM - detaljno'!J17+'Ispunjenje OM - detaljno'!K17+'Ispunjenje OM - detaljno'!L17+'Ispunjenje OM - detaljno'!M17+'Ispunjenje OM - detaljno'!N17+'Ispunjenje OM - detaljno'!O17+'Ispunjenje OM - detaljno'!P17+'Ispunjenje OM - detaljno'!Q17) -> 157.2 | C14: =SUM('Ispunjenje OM - detaljno'!R17+'Ispunjenje OM - detaljno'!S17+'Ispunjenje OM - detaljno'!T17+'Ispunjenje OM - detaljno'!U17+'Ispunjenje OM - detaljno'!V17+'Ispunjenje OM - detaljno'!W17+'Ispunjenje OM - detaljno'!X17+'Ispunjenje OM - detaljno'!Y17) -> 19.6 | D14: =SUM('Ispunjenje OM - detaljno'!Z17+'Ispunjenje OM - detaljno'!AA17) -> 0 | E14: =SUM('Ispunjenje OM - detaljno'!AB17+'Ispunjenje OM - detaljno'!AC17+'Ispunjenje OM - detaljno'!AD17+'Ispunjenje OM - detaljno'!AE17+'Ispunjenje OM - detaljno'!AF17+'Ispunjenje OM - detaljno'!AG17+'Ispunjenje OM - detaljno'!AH17+'Ispunjenje OM - detaljno'!AI17+'Ispunjenje OM - detaljno'!AJ17+'Ispunjenje OM - detaljno'!AK17+'Ispunjenje OM - detaljno'!AL17+'Ispunjenje OM - detaljno'!AM17) -> 3 | F14: =SUM('Ispunjenje OM - detaljno'!AN17+'Ispunjenje OM - detaljno'!AO17+'Ispunjenje OM - detaljno'!AP17+'Ispunjenje OM - detaljno'!AQ17+'Ispunjenje OM - detaljno'!AR17+'Ispunjenje OM - detaljno'!AS17+'Ispunjenje OM - detaljno'!AT17+'Ispunjenje OM - detaljno'!AU17) -> 0 | G14: =SUM('Ispunjenje OM - detaljno'!AV17+'Ispunjenje OM - detaljno'!AW17+'Ispunjenje OM - detaljno'!AX17+'Ispunjenje OM - detaljno'!AY17+'Ispunjenje OM - detaljno'!AZ17+'Ispunjenje OM - detaljno'!BA17+'Ispunjenje OM - detaljno'!BB17+'Ispunjenje OM - detaljno'!BC17+'Ispunjenje OM - detaljno'!BD17+'Ispunjenje OM - detaljno'!BE17) -> 0 | H14: =SUM('Ispunjenje OM - detaljno'!BF17+'Ispunjenje OM - detaljno'!BG17) -> 0 | I14: ='Ispunjenje OM - detaljno'!BH17 -> 173 | J14: ='Ispunjenje OM - detaljno'!BI17 -> 179.8 | K14: ='Ispunjenje OM - detaljno'!BJ17 -> 7.178082 | L14: ='Ispunjenje OM - detaljno'!BK17 -> 217 | M14: ='Ispunjenje OM - detaljno'!BL17 -> 68.55 | N14: ='Ispunjenje OM - detaljno'!BM17 -> 75.728082
A15: Grubor Marija | B15: =SUM('Ispunjenje OM - detaljno'!B18+'Ispunjenje OM - detaljno'!C18+'Ispunjenje OM - detaljno'!D18+'Ispunjenje OM - detaljno'!E18+'Ispunjenje OM - detaljno'!F18+'Ispunjenje OM - detaljno'!G18+'Ispunjenje OM - detaljno'!H18+'Ispunjenje OM - detaljno'!I18+'Ispunjenje OM - detaljno'!J18+'Ispunjenje OM - detaljno'!K18+'Ispunjenje OM - detaljno'!L18+'Ispunjenje OM - detaljno'!M18+'Ispunjenje OM - detaljno'!N18+'Ispunjenje OM - detaljno'!O18+'Ispunjenje OM - detaljno'!P18+'Ispunjenje OM - detaljno'!Q18) -> 100 | C15: =SUM('Ispunjenje OM - detaljno'!R18+'Ispunjenje OM - detaljno'!S18+'Ispunjenje OM - detaljno'!T18+'Ispunjenje OM - detaljno'!U18+'Ispunjenje OM - detaljno'!V18+'Ispunjenje OM - detaljno'!W18+'Ispunjenje OM - detaljno'!X18+'Ispunjenje OM - detaljno'!Y18) -> 4.6 | D15: =SUM('Ispunjenje OM - detaljno'!Z18+'Ispunjenje OM - detaljno'!AA18) -> 0 | E15: =SUM('Ispunjenje OM - detaljno'!AB18+'Ispunjenje OM - detaljno'!AC18+'Ispunjenje OM - detaljno'!AD18+'Ispunjenje OM - detaljno'!AE18+'Ispunjenje OM - detaljno'!AF18+'Ispunjenje OM - detaljno'!AG18+'Ispunjenje OM - detaljno'!AH18+'Ispunjenje OM - detaljno'!AI18+'Ispunjenje OM - detaljno'!AJ18+'Ispunjenje OM - detaljno'!AK18+'Ispunjenje OM - detaljno'!AL18+'Ispunjenje OM - detaljno'!AM18) -> 1 | F15: =SUM('Ispunjenje OM - detaljno'!AN18+'Ispunjenje OM - detaljno'!AO18+'Ispunjenje OM - detaljno'!AP18+'Ispunjenje OM - detaljno'!AQ18+'Ispunjenje OM - detaljno'!AR18+'Ispunjenje OM - detaljno'!AS18+'Ispunjenje OM - detaljno'!AT18+'Ispunjenje OM - detaljno'!AU18) -> 0 | G15: =SUM('Ispunjenje OM - detaljno'!AV18+'Ispunjenje OM - detaljno'!AW18+'Ispunjenje OM - detaljno'!AX18+'Ispunjenje OM - detaljno'!AY18+'Ispunjenje OM - detaljno'!AZ18+'Ispunjenje OM - detaljno'!BA18+'Ispunjenje OM - detaljno'!BB18+'Ispunjenje OM - detaljno'!BC18+'Ispunjenje OM - detaljno'!BD18+'Ispunjenje OM - detaljno'!BE18) -> 0 | H15: =SUM('Ispunjenje OM - detaljno'!BF18+'Ispunjenje OM - detaljno'!BG18) -> 21 | I15: ='Ispunjenje OM - detaljno'!BH18 -> 120 | J15: ='Ispunjenje OM - detaljno'!BI18 -> 126.6 | K15: ='Ispunjenje OM - detaljno'!BJ18 -> 8.4657536 | L15: ='Ispunjenje OM - detaljno'!BK18 -> 134 | M15: ='Ispunjenje OM - detaljno'!BL18 -> 82.47 | N15: ='Ispunjenje OM - detaljno'!BM18 -> 90.935754
A16: Grujić Dragica | B16: =SUM('Ispunjenje OM - detaljno'!B19+'Ispunjenje OM - detaljno'!C19+'Ispunjenje OM - detaljno'!D19+'Ispunjenje OM - detaljno'!E19+'Ispunjenje OM - detaljno'!F19+'Ispunjenje OM - detaljno'!G19+'Ispunjenje OM - detaljno'!H19+'Ispunjenje OM - detaljno'!I19+'Ispunjenje OM - detaljno'!J19+'Ispunjenje OM - detaljno'!K19+'Ispunjenje OM - detaljno'!L19+'Ispunjenje OM - detaljno'!M19+'Ispunjenje OM - detaljno'!N19+'Ispunjenje OM - detaljno'!O19+'Ispunjenje OM - detaljno'!P19+'Ispunjenje OM - detaljno'!Q19) -> 0 | C16: =SUM('Ispunjenje OM - detaljno'!R19+'Ispunjenje OM - detaljno'!S19+'Ispunjenje OM - detaljno'!T19+'Ispunjenje OM - detaljno'!U19+'Ispunjenje OM - detaljno'!V19+'Ispunjenje OM - detaljno'!W19+'Ispunjenje OM - detaljno'!X19+'Ispunjenje OM - detaljno'!Y19) -> 0 | D16: =SUM('Ispunjenje OM - detaljno'!Z19+'Ispunjenje OM - detaljno'!AA19) -> 0 | E16: =SUM('Ispunjenje OM - detaljno'!AB19+'Ispunjenje OM - detaljno'!AC19+'Ispunjenje OM - detaljno'!AD19+'Ispunjenje OM - detaljno'!AE19+'Ispunjenje OM - detaljno'!AF19+'Ispunjenje OM - detaljno'!AG19+'Ispunjenje OM - detaljno'!AH19+'Ispunjenje OM - detaljno'!AI19+'Ispunjenje OM - detaljno'!AJ19+'Ispunjenje OM - detaljno'!AK19+'Ispunjenje OM - detaljno'!AL19+'Ispunjenje OM - detaljno'!AM19) -> 0 | F16: =SUM('Ispunjenje OM - detaljno'!AN19+'Ispunjenje OM - detaljno'!AO19+'Ispunjenje OM - detaljno'!AP19+'Ispunjenje OM - detaljno'!AQ19+'Ispunjenje OM - detaljno'!AR19+'Ispunjenje OM - detaljno'!AS19+'Ispunjenje OM - detaljno'!AT19+'Ispunjenje OM - detaljno'!AU19) -> 0 | G16: =SUM('Ispunjenje OM - detaljno'!AV19+'Ispunjenje OM - detaljno'!AW19+'Ispunjenje OM - detaljno'!AX19+'Ispunjenje OM - detaljno'!AY19+'Ispunjenje OM - detaljno'!AZ19+'Ispunjenje OM - detaljno'!BA19+'Ispunjenje OM - detaljno'!BB19+'Ispunjenje OM - detaljno'!BC19+'Ispunjenje OM - detaljno'!BD19+'Ispunjenje OM - detaljno'!BE19) -> 512 | H16: =SUM('Ispunjenje OM - detaljno'!BF19+'Ispunjenje OM - detaljno'!BG19) -> 0 | I16: ='Ispunjenje OM - detaljno'!BH19 -> 512 | J16: ='Ispunjenje OM - detaljno'!BI19 -> 512 | K16: ='Ispunjenje OM - detaljno'!BJ19 -> 10 | L16: ='Ispunjenje OM - detaljno'!BK19 -> 216 | M16: ='Ispunjenje OM - detaljno'!BL19 -> 81.44 | N16: ='Ispunjenje OM - detaljno'!BM19 -> 91.44
A17: Gulišija Brečević Pavica | B17: =SUM('Ispunjenje OM - detaljno'!B20+'Ispunjenje OM - detaljno'!C20+'Ispunjenje OM - detaljno'!D20+'Ispunjenje OM - detaljno'!E20+'Ispunjenje OM - detaljno'!F20+'Ispunjenje OM - detaljno'!G20+'Ispunjenje OM - detaljno'!H20+'Ispunjenje OM - detaljno'!I20+'Ispunjenje OM - detaljno'!J20+'Ispunjenje OM - detaljno'!K20+'Ispunjenje OM - detaljno'!L20+'Ispunjenje OM - detaljno'!M20+'Ispunjenje OM - detaljno'!N20+'Ispunjenje OM - detaljno'!O20+'Ispunjenje OM - detaljno'!P20+'Ispunjenje OM - detaljno'!Q20) -> 164.1 | C17: =SUM('Ispunjenje OM - detaljno'!R20+'Ispunjenje OM - detaljno'!S20+'Ispunjenje OM - detaljno'!T20+'Ispunjenje OM - detaljno'!U20+'Ispunjenje OM - detaljno'!V20+'Ispunjenje OM - detaljno'!W20+'Ispunjenje OM - detaljno'!X20+'Ispunjenje OM - detaljno'!Y20) -> 17 | D17: =SUM('Ispunjenje OM - detaljno'!Z20+'Ispunjenje OM - detaljno'!AA20) -> 0 | E17: =SUM('Ispunjenje OM - detaljno'!AB20+'Ispunjenje OM - detaljno'!AC20+'Ispunjenje OM - detaljno'!AD20+'Ispunjenje OM - detaljno'!AE20+'Ispunjenje OM - detaljno'!AF20+'Ispunjenje OM - detaljno'!AG20+'Ispunjenje OM - detaljno'!AH20+'Ispunjenje OM - detaljno'!AI20+'Ispunjenje OM - detaljno'!AJ20+'Ispunjenje OM - detaljno'!AK20+'Ispunjenje OM - detaljno'!AL20+'Ispunjenje OM - detaljno'!AM20) -> 2 | F17: =SUM('Ispunjenje OM - detaljno'!AN20+'Ispunjenje OM - detaljno'!AO20+'Ispunjenje OM - detaljno'!AP20+'Ispunjenje OM - detaljno'!AQ20+'Ispunjenje OM - detaljno'!AR20+'Ispunjenje OM - detaljno'!AS20+'Ispunjenje OM - detaljno'!AT20+'Ispunjenje OM - detaljno'!AU20) -> 0 | G17: =SUM('Ispunjenje OM - detaljno'!AV20+'Ispunjenje OM - detaljno'!AW20+'Ispunjenje OM - detaljno'!AX20+'Ispunjenje OM - detaljno'!AY20+'Ispunjenje OM - detaljno'!AZ20+'Ispunjenje OM - detaljno'!BA20+'Ispunjenje OM - detaljno'!BB20+'Ispunjenje OM - detaljno'!BC20+'Ispunjenje OM - detaljno'!BD20+'Ispunjenje OM - detaljno'!BE20) -> 0 | H17: =SUM('Ispunjenje OM - detaljno'!BF20+'Ispunjenje OM - detaljno'!BG20) -> 0 | I17: ='Ispunjenje OM - detaljno'!BH20 -> 181 | J17: ='Ispunjenje OM - detaljno'!BI20 -> 183.1 | K17: ='Ispunjenje OM - detaljno'!BJ20 -> 6.3561645 | L17: ='Ispunjenje OM - detaljno'!BK20 -> 183 | M17: ='Ispunjenje OM - detaljno'!BL20 -> 72.18 | N17: ='Ispunjenje OM - detaljno'!BM20 -> 78.536164
A18: Hek Denis | B18: =SUM('Ispunjenje OM - detaljno'!B21+'Ispunjenje OM - detaljno'!C21+'Ispunjenje OM - detaljno'!D21+'Ispunjenje OM - detaljno'!E21+'Ispunjenje OM - detaljno'!F21+'Ispunjenje OM - detaljno'!G21+'Ispunjenje OM - detaljno'!H21+'Ispunjenje OM - detaljno'!I21+'Ispunjenje OM - detaljno'!J21+'Ispunjenje OM - detaljno'!K21+'Ispunjenje OM - detaljno'!L21+'Ispunjenje OM - detaljno'!M21+'Ispunjenje OM - detaljno'!N21+'Ispunjenje OM - detaljno'!O21+'Ispunjenje OM - detaljno'!P21+'Ispunjenje OM - detaljno'!Q21) -> 0 | C18: =SUM('Ispunjenje OM - detaljno'!R21+'Ispunjenje OM - detaljno'!S21+'Ispunjenje OM - detaljno'!T21+'Ispunjenje OM - detaljno'!U21+'Ispunjenje OM - detaljno'!V21+'Ispunjenje OM - detaljno'!W21+'Ispunjenje OM - detaljno'!X21+'Ispunjenje OM - detaljno'!Y21) -> 0 | D18: =SUM('Ispunjenje OM - detaljno'!Z21+'Ispunjenje OM - detaljno'!AA21) -> 0 | E18: =SUM('Ispunjenje OM - detaljno'!AB21+'Ispunjenje OM - detaljno'!AC21+'Ispunjenje OM - detaljno'!AD21+'Ispunjenje OM - detaljno'!AE21+'Ispunjenje OM - detaljno'!AF21+'Ispunjenje OM - detaljno'!AG21+'Ispunjenje OM - detaljno'!AH21+'Ispunjenje OM - detaljno'!AI21+'Ispunjenje OM - detaljno'!AJ21+'Ispunjenje OM - detaljno'!AK21+'Ispunjenje OM - detaljno'!AL21+'Ispunjenje OM - detaljno'!AM21) -> 0 | F18: =SUM('Ispunjenje OM - detaljno'!AN21+'Ispunjenje OM - detaljno'!AO21+'Ispunjenje OM - detaljno'!AP21+'Ispunjenje OM - detaljno'!AQ21+'Ispunjenje OM - detaljno'!AR21+'Ispunjenje OM - detaljno'!AS21+'Ispunjenje OM - detaljno'!AT21+'Ispunjenje OM - detaljno'!AU21) -> 162.8 | G18: =SUM('Ispunjenje OM - detaljno'!AV21+'Ispunjenje OM - detaljno'!AW21+'Ispunjenje OM - detaljno'!AX21+'Ispunjenje OM - detaljno'!AY21+'Ispunjenje OM - detaljno'!AZ21+'Ispunjenje OM - detaljno'!BA21+'Ispunjenje OM - detaljno'!BB21+'Ispunjenje OM - detaljno'!BC21+'Ispunjenje OM - detaljno'!BD21+'Ispunjenje OM - detaljno'!BE21) -> 0 | H18: =SUM('Ispunjenje OM - detaljno'!BF21+'Ispunjenje OM - detaljno'!BG21) -> 0 | I18: ='Ispunjenje OM - detaljno'!BH21 -> 161 | J18: ='Ispunjenje OM - detaljno'!BI21 -> 162.8 | K18: ='Ispunjenje OM - detaljno'!BJ21 -> 11.463014 | L18: ='Ispunjenje OM - detaljno'!BK21 -> 217 | M18: ='Ispunjenje OM - detaljno'!BL21 -> 75.86 | N18: ='Ispunjenje OM - detaljno'!BM21 -> 87.323014
... A41: Zenić Luka | B41: =SUM('Ispunjenje OM - detaljno'!B44+'Ispunjenje OM - detaljno'!C44+'Ispunjenje OM - detaljno'!D44+'Ispunjenje OM - detaljno'!E44+'Ispunjenje OM - detaljno'!F44+'Ispunjenje OM - detaljno'!G44+'Ispunjenje OM - detaljno'!H44+'Ispunjenje OM - detaljno'!I44+'Ispunjenje OM - detaljno'!J44+'Ispunjenje OM - detaljno'!K44+'Ispunjenje OM - detaljno'!L44+'Ispunjenje OM - detaljno'!M44+'Ispunjenje OM - detaljno'!N44+'Ispunjenje OM - detaljno'!O44+'Ispunjenje OM - detaljno'!P44+'Ispunjenje OM - detaljno'!Q44) -> 182.8 | C41: =SUM('Ispunjenje OM - detaljno'!R44+'Ispunjenje OM - detaljno'!S44+'Ispunjenje OM - detaljno'!T44+'Ispunjenje OM - detaljno'!U44+'Ispunjenje OM - detaljno'!V44+'Ispunjenje OM - detaljno'!W44+'Ispunjenje OM - detaljno'!X44+'Ispunjenje OM - detaljno'!Y44) -> 16.6 | D41: =SUM('Ispunjenje OM - detaljno'!Z44+'Ispunjenje OM - detaljno'!AA44) -> 0 | E41: =SUM('Ispunjenje OM - detaljno'!AB44+'Ispunjenje OM - detaljno'!AC44+'Ispunjenje OM - detaljno'!AD44+'Ispunjenje OM - detaljno'!AE44+'Ispunjenje OM - detaljno'!AF44+'Ispunjenje OM - detaljno'!AG44+'Ispunjenje OM - detaljno'!AH44+'Ispunjenje OM - detaljno'!AI44+'Ispunjenje OM - detaljno'!AJ44+'Ispunjenje OM - detaljno'!AK44+'Ispunjenje OM - detaljno'!AL44+'Ispunjenje OM - detaljno'!AM44) -> 2 | F41: =SUM('Ispunjenje OM - detaljno'!AN44+'Ispunjenje OM - detaljno'!AO44+'Ispunjenje OM - detaljno'!AP44+'Ispunjenje OM - detaljno'!AQ44+'Ispunjenje OM - detaljno'!AR44+'Ispunjenje OM - detaljno'!AS44+'Ispunjenje OM - detaljno'!AT44+'Ispunjenje OM - detaljno'!AU44) -> 0 | G41: =SUM('Ispunjenje OM - detaljno'!AV44+'Ispunjenje OM - detaljno'!AW44+'Ispunjenje OM - detaljno'!AX44+'Ispunjenje OM - detaljno'!AY44+'Ispunjenje OM - detaljno'!AZ44+'Ispunjenje OM - detaljno'!BA44+'Ispunjenje OM - detaljno'!BB44+'Ispunjenje OM - detaljno'!BC44+'Ispunjenje OM - detaljno'!BD44+'Ispunjenje OM - detaljno'!BE44) -> 0 | H41: =SUM('Ispunjenje OM - detaljno'!BF44+'Ispunjenje OM - detaljno'!BG44) -> 181 | I41: ='Ispunjenje OM - detaljno'!BH44 -> 376 | J41: ='Ispunjenje OM - detaljno'!BI44 -> 382.4 | K41: ='Ispunjenje OM - detaljno'!BJ44 -> 0 | L41: ='Ispunjenje OM - detaljno'!BK44 -> 212 | M41: ='Ispunjenje OM - detaljno'!BL44 -> 127.45 | N41: ='Ispunjenje OM - detaljno'!BM44 -> 127.45

Sheet Ispunjenje OM - detaljno
A2: Izvješće o ispunjenju okvirnih mjerila za period
B3: Period: | D3: 01.01.2026. | F3: - | G3: 31.12.2026.
A4: Tablica sadrži broj predmeta (s težinskim faktorom!) koje je određeni sudac riješio u određenoj kategoriji okvirnih mjerila.
A5: Kategorija okvirnih mjerila, broj predmeta potrebnih za 100% te postotak ispunjenja zbog jednog predmeta Sudac | B5: PARNIČNI PREDMETI | R5: IZVANPARNIČNI PREDMETI | Z5: OSTAVINSKI PREDMETI | AB5: OVRŠNI PREDMETI | AN5: KAZNENI PREDMETI | AV5: PREKRŠAJNI PREDMETI | BF5: ZK PREDMETI | BH5: BROJ RIJEŠENIH PREDMETA | BI5: RIJEŠENIH PREDMETA S TEŽINSKIM FAKTORIMA | BJ5: OSLOBOĐENJE OD OKVIRNIH MJERILA [%] | BK5: RADNIH DANA | BL5: ISPUNJENJE OKVIRNIH MJERILA [%] | BM5: ISPUNJENJE OKVIRNIH MJERILA S OSLOBOĐENJEM [%]
B6: obiteljski sporovi | C6: sporovi zbog mobbinga | D6: sporovi po zakonu o zabrani diskriminacije | E6: radni sporovi proizažli iz nepoštivanje kolektivnog ugovora (radi isplate) | F6: radni sporovi | G6: ostali parnični predmeti | H6: platni nalozi | I6: odlučivanje o prijedlogu za ponavljanje postupka | J6: sudska nagodba | K6: predmeti dovršeni rješenjem o smetanju posjeda | L6: predmeti dovršeni rješenjem o odbačaju tužbe i rješenjem o povlačenju tužbe | M6: predmeti dovršeni rješenjem o nenadležnosti i zastoju postupka | N6: predmeti dovršeni ostalim rješenjima | O6: zahtjev za prethodnu odluku sudu Europske unijesudska nagodba | P6: predmeti dovršeni presudom donesenom na temelju presude u oglednom postupku | Q6: postupci mirenja u kojima je mirenje uspjelo - sudac izmiritelj | R6: izvanparnični predmeti po obiteljskom zakonu | S6: uređenje međe, razvrgnuće suvlasništva, uređenje odnosa među suvlasnicima i otvaranje nužnog prolaza | T6: ovjera ugovora o doživotnom uzdržavanju | U6: ostali teži izvanparnični predmeti (R1) | V6: lakši izvanparnični predmeti (R2) – samo u slučajevima u kojima je dopuštena posebna žalba | W6: stečaj potrošača | Y6: predmeti dovršeni rješenjem o nenadležnosti | Z6: ostavinski predmeti vraćeni od javnog bilježnika | AA6: predmeti naknadno pronađene ostavinske imovine | AB6: ovrhe na nekretninama, ovrha diobom stvari i ovrha radi ispražnjenja i predaje nekretnine | AC6: ovrha na pokretninama (osim na motornom vozilu) | AD6: ovrha na motornom vozilu | AE6: ovrha na novčanoj tražbini | AF6: ovrha na vrijednosnim papirima, poslovnim udjelima i dionicama | AG6: ovrha radi ostvarenja tražbine na radnju, trpljenje ili nečinjenje te ovrha vraćanjem zaposlenika na rad ili službu | AH6: ovrha privremenom pljenidbom ili izricanjem sudskih penala | AI6: mjere osiguranja po ovršnom zakonu | AJ6: ovrha po obiteljskom zakonu | AK6: ovršni predmeti vraćeni od javnog bilježnika | AL6: odlučivanje povodom žalbi, prigovora i prijedloga za odgodu sukladno ovršnom zakonu | AM6: predmeti dovršeni rješenjem o nenadležnosti | AN6: predmeti dovršeni presudom(glavni upisnici) | AO6: predmeti suda za mladež (osim onih iz glavnih upisnika) | AP6: predmeti izvanraspravnog vijeća - samo predsjednik vijeća | AQ6: predmeti optužnog vijeća - samo predsjednik vijeća | AR6: kazneni nalozi | AS6: predmeti dovršeni rješenjem | AT6: predmeti dovršeni rješenjem o nenadležnosti | AU6: postupci mirenja u kojima je mirenje uspjelo - sudac izmiritelj | AV6: predmeti iz područja prometnih prekršaja | AW6: predmeti iz područja gospodarskih prekršaja | AX6: predmeti iz područja javnog reda i mira i javne sigurnosti | AY6: predmeti iz područja zaštite od nasilja u obitelji | AZ6: predmeti u kojima je tužitelj pravna osoba s javnim ovlastima odnosno koja je utvrđena kao neovisni regulator | BA6: prekršajni nalog | BB6: predmeti dovršeni procesnim rješenjima | BC6: predmeti pružanja pravne pomoći | BD6: predmeti iz područja priznanja i izvršenja odluka o novčanoj kazni između država članica EU | BE6: postupci mirenja u kojima je mirenje uspjelo - sudac izmiritelj | BF6: složeni | BG6: ostali
W7: redovni | X7: jednostavni (skraćeni)
B8: 220 | C8: 120 | D8: 120 | E8: 400 | F8: 200 | G8: 205 | H8: 500 | I8: 300 | J8: 130 | K8: 220 | L8: 300 | M8: 1500 | N8: 600 | O8: 100 | P8: 500 | Q8: 90 | R8: 240 | S8: 200 | T8: 1000 | U8: 350 | V8: 1600 | W8: 250 | X8: 700 | Y8: 1500 | Z8: 400 | AA8: 650 | AB8: 275 | AC8: 2000 | AD8: 800 | AE8: 2100 | AF8: 750 | AG8: 250 | AH8: 2000 | AI8: 400 | AJ8: 200 | AK8: 4000 | AL8: 1000 | AM8: 1500 | AN8: 115 | AO8: 300 | AP8: 600 | AQ8: 250 | AR8: 580 | AS8: 600 | AT8: 1500 | AU8: 90 | AV8: 700 | AW8: 600 | AX8: 650 | AY8: 300 | AZ8: 80 | BA8: 1200 | BB8: 3200 | BC8: 2400 | BD8: 450 | BE8: 100 | BF8: 350 | BG8: 4000
B9: =1/B8 -> 0.0045454545 | C9: =1/C8 -> 0.0083333333 | D9: =1/D8 -> 0.0083333333 | E9: =1/E8 -> 0.0025 | F9: =1/F8 -> 0.005 | G9: =1/G8 -> 0.0048780488 | H9: =1/H8 -> 0.002 | I9: =1/I8 -> 0.0033333333 | ... BG9: =1/BG8 -> 0.00025
A10: Aničić Keti | H10: 139 | L10: 5 | U10: 49 | V10: 17 | X10: 6 | Y10: 2 | Z10: 4 | AA10: 27 | AB10: 5.2 | AC10: 1 | AE10: 4 | AI10: 26 | AK10: 187 | AM10: 1 | BF10: 7 | BH10: =SUM(472+SUM(BF10:BG10)) -> 479 | BI10: =SUM(B10:BG10) -> 480.2 | BJ10: 0 | BK10: 199 | BL10: =ROUND((B10/B8+C10/C8+D10/D8+E10/E8+F10/F8+G10/G8+H10/H8+I10/I8+J10/J8+K10/K8+L10/L8+M10/M8+N10/N8+O10/O8+P10/P8+Q10/Q8+R10/R8+S10/S8+T10/T8+U10/U8+V10/V8+W10/W8+X10/X8+Y10/Y8+Z10/Z8+AA10/AA8+AB10/AB8+AC10/AC8+AD10/AD8+AE10/AE8+AF10/AF8+AG10/AG8+AH10/AH8+AI10/AI8+AJ10/AJ8+AK10/AK8+AL10/AL8+AM10/AM8+AN10/AN8+AO10/AO8+AP10/AP8+AQ10/AQ8+AR10/AR8+AS10/AS8+AT10/AT8+AU10/AU8+AV10/AV8+AW10/AW8+AX10/AX8+AY10/AY8+AZ10/AZ8+BA10/BA8+BB10/BB8+BC10/BC8+BD10/BD8+BE10/BE8+BF10/BF8+BG10/BG8)*100+100/220*(21-((0+0+0+0+0+0+0+0+0+0+0+0+0+0+0+0+0+0+0+0+0)/100)),2) -> 75.59 | BM10: =BJ10+BL10 -> 75.59
A11: Babić Sven | E11: 5 | F11: 2 | G11: 49.3 | H11: 76 | I11: 1 | J11: 6 | K11: 4.5 | L11: 23 | M11: 8.6 | N11: 5.5 | S11: 6 | T11: 2 | U11: 3 | BH11: =SUM(186+SUM(BF11:BG11)) -> 186 | BI11: =SUM(B11:BG11) -> 191.9 | BJ11: 0 | BK11: 219 | BL11: =ROUND((B11/B8+C11/C8+D11/D8+E11/E8+F11/F8+G11/G8+H11/H8+I11/I8+J11/J8+K11/K8+L11/L8+M11/M8+N11/N8+O11/O8+P11/P8+Q11/Q8+R11/R8+S11/S8+T11/T8+U11/U8+V11/V8+W11/W8+X11/X8+Y11/Y8+Z11/Z8+AA11/AA8+AB11/AB8+AC11/AC8+AD11/AD8+AE11/AE8+AF11/AF8+AG11/AG8+AH11/AH8+AI11/AI8+AJ11/AJ8+AK11/AK8+AL11/AL8+AM11/AM8+AN11/AN8+AO11/AO8+AP11/AP8+AQ11/AQ8+AR11/AR8+AS11/AS8+AT11/AT8+AU11/AU8+AV11/AV8+AW11/AW8+AX11/AX8+AY11/AY8+AZ11/AZ8+BA11/BA8+BB11/BB8+BC11/BC8+BD11/BD8+BE11/BE8+BF11/BF8+BG11/BG8)*100+100/220*(1-((0)/100)),2) -> 62.16 | BM11: =BJ11+BL11 -> 62.16
A12: Barbić Alen | F12: 4 | G12: 81.2 | H12: 72 | J12: 7 | K12: 1 | L12: 38.2 | M12: 6.6 | N12: 14 | Q12: 1 | S12: 16 | T12: 4 | V12: 1 | AI12: 2 | BH12: =SUM(236+SUM(BF12:BG12)) -> 236 | BI12: =SUM(B12:BG12) -> 248 | BJ12: 20 | BK12: 218 | BL12: =ROUND((B12/B8+C12/C8+D12/D8+E12/E8+F12/F8+G12/G8+H12/H8+I12/I8+J12/J8+K12/K8+L12/L8+M12/M8+N12/N8+O12/O8+P12/P8+Q12/Q8+R12/R8+S12/S8+T12/T8+U12/U8+V12/V8+W12/W8+X12/X8+Y12/Y8+Z12/Z8+AA12/AA8+AB12/AB8+AC12/AC8+AD12/AD8+AE12/AE8+AF12/AF8+AG12/AG8+AH12/AH8+AI12/AI8+AJ12/AJ8+AK12/AK8+AL12/AL8+AM12/AM8+AN12/AN8+AO12/AO8+AP12/AP8+AQ12/AQ8+AR12/AR8+AS12/AS8+AT12/AT8+AU12/AU8+AV12/AV8+AW12/AW8+AX12/AX8+AY12/AY8+AZ12/AZ8+BA12/BA8+BB12/BB8+BC12/BC8+BD12/BD8+BE12/BE8+BF12/BF8+BG12/BG8)*100+100/220*(2-((20+20)/100)),2) -> 88.16 | BM12: =BJ12+BL12 -> 108.16
A13: Božić Turina Sanja | AV13: 236 | AW13: 96 | AX13: 42 | AY13: 18 | BA13: 7 | BB13: 7 | BC13: 12 | BD13: 17 | BH13: =SUM(435+SUM(BF13:BG13)) -> 435 | BI13: =SUM(B13:BG13) -> 435 | BJ13: 0 | BK13: 211 | BL13: =ROUND((B13/B8+C13/C8+D13/D8+E13/E8+F13/F8+G13/G8+H13/H8+I13/I8+J13/J8+K13/K8+L13/L8+M13/M8+N13/N8+O13/O8+P13/P8+Q13/Q8+R13/R8+S13/S8+T13/T8+U13/U8+V13/V8+W13/W8+X13/X8+Y13/Y8+Z13/Z8+AA13/AA8+AB13/AB8+AC13/AC8+AD13/AD8+AE13/AE8+AF13/AF8+AG13/AG8+AH13/AH8+AI13/AI8+AJ13/AJ8+AK13/AK8+AL13/AL8+AM13/AM8+AN13/AN8+AO13/AO8+AP13/AP8+AQ13/AQ8+AR13/AR8+AS13/AS8+AT13/AT8+AU13/AU8+AV13/AV8+AW13/AW8+AX13/AX8+AY13/AY8+AZ13/AZ8+BA13/BA8+BB13/BB8+BC13/BC8+BD13/BD8+BE13/BE8+BF13/BF8+BG13/BG8)*100+100/220*(9-((0+0+0+0+0+0+0+0+0)/100)),2) -> 71.35 | BM13: =BJ13+BL13 -> 71.35
A14: Brljafa Nina | F14: 1 | G14: 7 | H14: 2 | L14: 2 | N14: 1 | R14: 1 | S14: 3 | U14: 33 | V14: 30 | X14: 1 | Z14: 20.4 | AA14: 25 | AB14: 7.6 | AC14: 1 | AE14: 5 | AI14: 14 | AK14: 185 | AL14: 8 | BF14: 19 | BH14: =SUM(344+SUM(BF14:BG14)) -> 363 | BI14: =SUM(B14:BG14) -> 366 | BJ14: 0 | BK14: 210 | BL14: =ROUND((B14/B8+C14/C8+D14/D8+E14/E8+F14/F8+G14/G8+H14/H8+I14/I8+J14/J8+K14/K8+L14/L8+M14/M8+N14/N8+O14/O8+P14/P8+Q14/Q8+R14/R8+S14/S8+T14/T8+U14/U8+V14/V8+W14/W8+X14/X8+Y14/Y8+Z14/Z8+AA14/AA8+AB14/AB8+AC14/AC8+AD14/AD8+AE14/AE8+AF14/AF8+AG14/AG8+AH14/AH8+AI14/AI8+AJ14/AJ8+AK14/AK8+AL14/AL8+AM14/AM8+AN14/AN8+AO14/AO8+AP14/AP8+AQ14/AQ8+AR14/AR8+AS14/AS8+AT14/AT8+AU14/AU8+AV14/AV8+AW14/AW8+AX14/AX8+AY14/AY8+AZ14/AZ8+BA14/BA8+BB14/BB8+BC14/BC8+BD14/BD8+BE14/BE8+BF14/BF8+BG14/BG8)*100+100/220*(10-((0+0+0+0+0+0+0+0+0+0)/100)),2) -> 49.41 | BM14: =BJ14+BL14 -> 49.41
A15: Ciglenečki Nina | AN15: 35.6 | AP15: 28 | AQ15: 52 | AR15: 30 | AS15: 13 | BH15: =SUM(158+SUM(BF15:BG15)) -> 158 | BI15: =SUM(B15:BG15) -> 158.6 | BJ15: 0 | BK15: 206 | BL15: =ROUND((B15/B8+C15/C8+D15/D8+E15/E8+F15/F8+G15/G8+H15/H8+I15/I8+J15/J8+K15/K8+L15/L8+M15/M8+N15/N8+O15/O8+P15/P8+Q15/Q8+R15/R8+S15/S8+T15/T8+U15/U8+V15/V8+W15/W8+X15/X8+Y15/Y8+Z15/Z8+AA15/AA8+AB15/AB8+AC15/AC8+AD15/AD8+AE15/AE8+AF15/AF8+AG15/AG8+AH15/AH8+AI15/AI8+AJ15/AJ8+AK15/AK8+AL15/AL8+AM15/AM8+AN15/AN8+AO15/AO8+AP15/AP8+AQ15/AQ8+AR15/AR8+AS15/AS8+AT15/AT8+AU15/AU8+AV15/AV8+AW15/AW8+AX15/AX8+AY15/AY8+AZ15/AZ8+BA15/BA8+BB15/BB8+BC15/BC8+BD15/BD8+BE15/BE8+BF15/BF8+BG15/BG8)*100+100/220*(14-((0+0+0+0+0+0+0+0+0+0+0+0+0+0)/100)),2) -> 70.13 | BM15: =BJ15+BL15 -> 70.13
A16: Frančula Marinović Lorena | AV16: 264 | AW16: 43 | AX16: 71 | AY16: 11 | BB16: 9 | BC16: 18 | BD16: 5 | BH16: =SUM(421+SUM(BF16:BG16)) -> 421 | BI16: =SUM(B16:BG16) -> 421 | BJ16: 0 | BK16: 215 | BL16: =ROUND((B16/B8+C16/C8+D16/D8+E16/E8+F16/F8+G16/G8+H16/H8+I16/I8+J16/J8+K16/K8+L16/L8+M16/M8+N16/N8+O16/O8+P16/P8+Q16/Q8+R16/R8+S16/S8+T16/T8+U16/U8+V16/V8+W16/W8+X16/X8+Y16/Y8+Z16/Z8+AA16/AA8+AB16/AB8+AC16/AC8+AD16/AD8+AE16/AE8+AF16/AF8+AG16/AG8+AH16/AH8+AI16/AI8+AJ16/AJ8+AK16/AK8+AL16/AL8+AM16/AM8+AN16/AN8+AO16/AO8+AP16/AP8+AQ16/AQ8+AR16/AR8+AS16/AS8+AT16/AT8+AU16/AU8+AV16/AV8+AW16/AW8+AX16/AX8+AY16/AY8+AZ16/AZ8+BA16/BA8+BB16/BB8+BC16/BC8+BD16/BD8+BE16/BE8+BF16/BF8+BG16/BG8)*100+100/220*(5-((0+0+0+0+0)/100)),2) -> 63.89 | BM16: =BJ16+BL16 -> 63.89
A17: Golja Erica | B17: 1.6 | F17: 3 | G17: 56.4 | H17: 23 | J17: 8.6 | K17: 2 | L17: 45.6 | M17: 4 | N17: 13 | R17: 1.6 | S17: 11 | T17: 3 | U17: 1 | V17: 2 | Y17: 1 | AI17: 3 | BH17: =SUM(173+SUM(BF17:BG17)) -> 173 | BI17: =SUM(B17:BG17) -> 179.8 | BJ17: 7.178082 | BK17: 217 | BL17: =ROUND((B17/B8+C17/C8+D17/D8+E17/E8+F17/F8+G17/G8+H17/H8+I17/I8+J17/J8+K17/K8+L17/L8+M17/M8+N17/N8+O17/O8+P17/P8+Q17/Q8+R17/R8+S17/S8+T17/T8+U17/U8+V17/V8+W17/W8+X17/X8+Y17/Y8+Z17/Z8+AA17/AA8+AB17/AB8+AC17/AC8+AD17/AD8+AE17/AE8+AF17/AF8+AG17/AG8+AH17/AH8+AI17/AI8+AJ17/AJ8+AK17/AK8+AL17/AL8+AM17/AM8+AN17/AN8+AO17/AO8+AP17/AP8+AQ17/AQ8+AR17/AR8+AS17/AS8+AT17/AT8+AU17/AU8+AV17/AV8+AW17/AW8+AX17/AX8+AY17/AY8+AZ17/AZ8+BA17/BA8+BB17/BB8+BC17/BC8+BD17/BD8+BE17/BE8+BF17/BF8+BG17/BG8)*100+100/220*(3-((0+0+0)/100)),2) -> 68.55 | BM17: =BJ17+BL17 -> 75.728082
A18: Grubor Marija | E18: 1 | G18: 29.2 | H18: 21 | J18: 5.6 | L18: 38.6 | M18: 1 | N18: 3.6 | S18: 2.6 | T18: 1 | U18: 1 | AI18: 1 | BF18: 21 | BH18: =SUM(99+SUM(BF18:BG18)) -> 120 | BI18: =SUM(B18:BG18) -> 126.6 | BJ18: 8.4657536 | BK18: 134 | BL18: =ROUND((B18/B8+C18/C8+D18/D8+E18/E8+F18/F8+G18/G8+H18/H8+I18/I8+J18/J8+K18/K8+L18/L8+M18/M8+N18/N8+O18/O8+P18/P8+Q18/Q8+R18/R8+S18/S8+T18/T8+U18/U8+V18/V8+W18/W8+X18/X8+Y18/Y8+Z18/Z8+AA18/AA8+AB18/AB8+AC18/AC8+AD18/AD8+AE18/AE8+AF18/AF8+AG18/AG8+AH18/AH8+AI18/AI8+AJ18/AJ8+AK18/AK8+AL18/AL8+AM18/AM8+AN18/AN8+AO18/AO8+AP18/AP8+AQ18/AQ8+AR18/AR8+AS18/AS8+AT18/AT8+AU18/AU8+AV18/AV8+AW18/AW8+AX18/AX8+AY18/AY8+AZ18/AZ8+BA18/BA8+BB18/BB8+BC18/BC8+BD18/BD8+BE18/BE8+BF18/BF8+BG18/BG8)*100+100/220*(86-((30+30+30+30+30+30+30+30+0+0+0+0+0+0+0+0+0+0+0+0+0+0+0+0+0+0+0+0+0+0+0+0+0+0+0+0+0+0+0+0+0+0+0+0+0+0+0+0+0+0+0+0+0+0+0+0+0+0+0+0+0+0+0+0+0+0+0+0+0+0+0+0+0+0+0+0+0+0+0+0+0+0+0+0+0+0)/100)),2) -> 82.47 | BM18: =BJ18+BL18 -> 90.935754
A19: Grujić Dragica | AV19: 291 | AW19: 94 | AX19: 65 | AY19: 32 | BB19: 7 | BC19: 19 | BD19: 4 | BH19: =SUM(512+SUM(BF19:BG19)) -> 512 | BI19: =SUM(B19:BG19) -> 512 | BJ19: 10 | BK19: 216 | BL19: =ROUND((B19/B8+C19/C8+D19/D8+E19/E8+F19/F8+G19/G8+H19/H8+I19/I8+J19/J8+K19/K8+L19/L8+M19/M8+N19/N8+O19/O8+P19/P8+Q19/Q8+R19/R8+S19/S8+T19/T8+U19/U8+V19/V8+W19/W8+X19/X8+Y19/Y8+Z19/Z8+AA19/AA8+AB19/AB8+AC19/AC8+AD19/AD8+AE19/AE8+AF19/AF8+AG19/AG8+AH19/AH8+AI19/AI8+AJ19/AJ8+AK19/AK8+AL19/AL8+AM19/AM8+AN19/AN8+AO19/AO8+AP19/AP8+AQ19/AQ8+AR19/AR8+AS19/AS8+AT19/AT8+AU19/AU8+AV19/AV8+AW19/AW8+AX19/AX8+AY19/AY8+AZ19/AZ8+BA19/BA8+BB19/BB8+BC19/BC8+BD19/BD8+BE19/BE8+BF19/BF8+BG19/BG8)*100+100/220*(4-((10+10+10+10)/100)),2) -> 81.44 | BM19: =BJ19+BL19 -> 91.44
A20: Gulišija Brečević Pavica | G20: 26.1 | H20: 56 | J20: 5.5 | L20: 53.5 | M20: 12 | N20: 11 | S20: 12 | T20: 4 | U20: 1 | AI20: 2 | BH20: =SUM(181+SUM(BF20:BG20)) -> 181 | BI20: =SUM(B20:BG20) -> 183.1 | BJ20: 6.3561645 | BK20: 183 | BL20: =ROUND((B20/B8+C20/C8+D20/D8+E20/E8+F20/F8+G20/G8+H20/H8+I20/I8+J20/J8+K20/K8+L20/L8+M20/M8+N20/N8+O20/O8+P20/P8+Q20/Q8+R20/R8+S20/S8+T20/T8+U20/U8+V20/V8+W20/W8+X20/X8+Y20/Y8+Z20/Z8+AA20/AA8+AB20/AB8+AC20/AC8+AD20/AD8+AE20/AE8+AF20/AF8+AG20/AG8+AH20/AH8+AI20/AI8+AJ20/AJ8+AK20/AK8+AL20/AL8+AM20/AM8+AN20/AN8+AO20/AO8+AP20/AP8+AQ20/AQ8+AR20/AR8+AS20/AS8+AT20/AT8+AU20/AU8+AV20/AV8+AW20/AW8+AX20/AX8+AY20/AY8+AZ20/AZ8+BA20/BA8+BB20/BB8+BC20/BC8+BD20/BD8+BE20/BE8+BF20/BF8+BG20/BG8)*100+100/220*(37-((10+0+0+0+0+0+0+0+0+0+0+0+0+0+0+0+0+0+0+0+0+0+0+0+0+0+0+0+10+10+10+10+10+10+10+10+10)/100)),2) -> 72.18 | BM20: =BJ20+BL20 -> 78.536164
A21: Hek Denis | AN21: 54.8 | AP21: 40 | AQ21: 38 | AR21: 22 | AS21: 8 | BH21: =SUM(161+SUM(BF21:BG21)) -> 161 | BI21: =SUM(B21:BG21) -> 162.8 | BJ21: 11.463014 | BK21: 217 | BL21: =ROUND((B21/B8+C21/C8+D21/D8+E21/E8+F21/F8+G21/G8+H21/H8+I21/I8+J21/J8+K21/K8+L21/L8+M21/M8+N21/N8+O21/O8+P21/P8+Q21/Q8+R21/R8+S21/S8+T21/T8+U21/U8+V21/V8+W21/W8+X21/X8+Y21/Y8+Z21/Z8+AA21/AA8+AB21/AB8+AC21/AC8+AD21/AD8+AE21/AE8+AF21/AF8+AG21/AG8+AH21/AH8+AI21/AI8+AJ21/AJ8+AK21/AK8+AL21/AL8+AM21/AM8+AN21/AN8+AO21/AO8+AP21/AP8+AQ21/AQ8+AR21/AR8+AS21/AS8+AT21/AT8+AU21/AU8+AV21/AV8+AW21/AW8+AX21/AX8+AY21/AY8+AZ21/AZ8+BA21/BA8+BB21/BB8+BC21/BC8+BD21/BD8+BE21/BE8+BF21/BF8+BG21/BG8)*100+100/220*(3-((10+10+12)/100)),2) -> 75.86 | BM21: =BJ21+BL21 -> 87.323014
A22: Išić Nina | AN22: 32.8 | AP22: 50 | AQ22: 50 | AR22: 31 | AS22: 6.2 | BH22: =SUM(167+SUM(BF22:BG22)) -> 167 | BI22: =SUM(B22:BG22) -> 170 | BJ22: 0 | BK22: 218 | BL22: =ROUND((B22/B8+C22/C8+D22/D8+E22/E8+F22/F8+G22/G8+H22/H8+I22/I8+J22/J8+K22/K8+L22/L8+M22/M8+N22/N8+O22/O8+P22/P8+Q22/Q8+R22/R8+S22/S8+T22/T8+U22/U8+V22/V8+W22/W8+X22/X8+Y22/Y8+Z22/Z8+AA22/AA8+AB22/AB8+AC22/AC8+AD22/AD8+AE22/AE8+AF22/AF8+AG22/AG8+AH22/AH8+AI22/AI8+AJ22/AJ8+AK22/AK8+AL22/AL8+AM22/AM8+AN22/AN8+AO22/AO8+AP22/AP8+AQ22/AQ8+AR22/AR8+AS22/AS8+AT22/AT8+AU22/AU8+AV22/AV8+AW22/AW8+AX22/AX8+AY22/AY8+AZ22/AZ8+BA22/BA8+BB22/BB8+BC22/BC8+BD22/BD8+BE22/BE8+BF22/BF8+BG22/BG8)*100+100/220*(2-((0+0)/100)),2) -> 64.14 | BM22: =BJ22+BL22 -> 64.14
A23: Kaligari Hek Mihaela | B23: 1 | G23: 46 | H23: 65 | J23: 2.5 | K23: 1 | L23: 54.6 | M23: 10 | N23: 8.2 | S23: 8 | T23: 2 | Y23: 1 | AI23: 3 | BF23: 21 | BH23: =SUM(197+SUM(BF23:BG23)) -> 218 | BI23: =SUM(B23:BG23) -> 223.3 | BJ23: 0 | BK23: 216 | BL23: =ROUND((B23/B8+C23/C8+D23/D8+E23/E8+F23/F8+G23/G8+H23/H8+I23/I8+J23/J8+K23/K8+L23/L8+M23/M8+N23/N8+O23/O8+P23/P8+Q23/Q8+R23/R8+S23/S8+T23/T8+U23/U8+V23/V8+W23/W8+X23/X8+Y23/Y8+Z23/Z8+AA23/AA8+AB23/AB8+AC23/AC8+AD23/AD8+AE23/AE8+AF23/AF8+AG23/AG8+AH23/AH8+AI23/AI8+AJ23/AJ8+AK23/AK8+AL23/AL8+AM23/AM8+AN23/AN8+AO23/AO8+AP23/AP8+AQ23/AQ8+AR23/AR8+AS23/AS8+AT23/AT8+AU23/AU8+AV23/AV8+AW23/AW8+AX23/AX8+AY23/AY8+AZ23/AZ8+BA23/BA8+BB23/BB8+BC23/BC8+BD23/BD8+BE23/BE8+BF23/BF8+BG23/BG8)*100+100/220*(4-((0+0+0+0)/100)),2) -> 71.34 | BM23: =BJ23+BL23 -> 71.34
A24: Krnjus Urbac Snježana | AV24: 4 | AW24: 3 | AX24: 1 | BB24: 1 | BH24: =SUM(9+SUM(BF24:BG24)) -> 9 | BI24: =SUM(B24:BG24) -> 9 | BJ24: 0 | BK24: 65 | BL24: =ROUND((B24/B8+C24/C8+D24/D8+E24/E8+F24/F8+G24/G8+H24/H8+I24/I8+J24/J8+K24/K8+L24/L8+M24/M8+N24/N8+O24/O8+P24/P8+Q24/Q8+R24/R8+S24/S8+T24/T8+U24/U8+V24/V8+W24/W8+X24/X8+Y24/Y8+Z24/Z8+AA24/AA8+AB24/AB8+AC24/AC8+AD24/AD8+AE24/AE8+AF24/AF8+AG24/AG8+AH24/AH8+AI24/AI8+AJ24/AJ8+AK24/AK8+AL24/AL8+AM24/AM8+AN24/AN8+AO24/AO8+AP24/AP8+AQ24/AQ8+AR24/AR8+AS24/AS8+AT24/AT8+AU24/AU8+AV24/AV8+AW24/AW8+AX24/AX8+AY24/AY8+AZ24/AZ8+BA24/BA8+BB24/BB8+BC24/BC8+BD24/BD8+BE24/BE8+BF24/BF8+BG24/BG8)*100+100/220*(155-((0+0+0+0+0+0+0+0+0+0+0+0+0+0+0+0+0+0+0+0+0+0+0+0+0+0+0+0+0+0+0+0+0+0+0+0+0+0+0+0+0+0+0+0+0+0+0+0+0+0+0+0+0+0+0+0+0+0+0+0+0+0+0+0+0+0+0+0+0+0+0+0+0+0+0+0+0+0+0+0+0+0+0+0+0+0+0+0+0+0+0+0+0+0+0+0+0+0+0+0+0+0+0+0+0+0+0+0+0+0+0+0+0+0+0+0+0+0+0+0+0+0+0+0+0+0+0+0+0+0+0+0+0+0+0+0+0+0+0+0+0+0+0+0+0+0+0+0+0+0+0+0+0+0+0)/100)),2) -> 71.71 | BM24: =BJ24+BL24 -> 71.71
A25: Liović Ivana | L25: 1 | N25: 2 | U25: 29 | V25: 9 | X25: 14 | Z25: 1 | AA25: 1 | AB25: 6.6 | AE25: 5.2 | AI25: 15 | AK25: 158 | AL25: 2 | AM25: 3 | BF25: 4 | BH25: =SUM(245+SUM(BF25:BG25)) -> 249 | BI25: =SUM(B25:BG25) -> 250.8 | BJ25: 0 | BK25: 190 | BL25: =ROUND((B25/B8+C25/C8+D25/D8+E25/E8+F25/F8+G25/G8+H25/H8+I25/I8+J25/J8+K25/K8+L25/L8+M25/M8+N25/N8+O25/O8+P25/P8+Q25/Q8+R25/R8+S25/S8+T25/T8+U25/U8+V25/V8+W25/W8+X25/X8+Y25/Y8+Z25/Z8+AA25/AA8+AB25/AB8+AC25/AC8+AD25/AD8+AE25/AE8+AF25/AF8+AG25/AG8+AH25/AH8+AI25/AI8+AJ25/AJ8+AK25/AK8+AL25/AL8+AM25/AM8+AN25/AN8+AO25/AO8+AP25/AP8+AQ25/AQ8+AR25/AR8+AS25/AS8+AT25/AT8+AU25/AU8+AV25/AV8+AW25/AW8+AX25/AX8+AY25/AY8+AZ25/AZ8+BA25/BA8+BB25/BB8+BC25/BC8+BD25/BD8+BE25/BE8+BF25/BF8+BG25/BG8)*100+100/220*(30-((0+0+0+0+0+0+0+0+0+0+0+0+0+0+0+0+0+0+0+0+0+0+0+0+0+0+0+0+0+0)/100)),2) -> 37.45 | BM25: =BJ25+BL25 -> 37.45
A26: Markuš Vlatka | F26: 2 | G26: 56 | H26: 60 | J26: 4.6 | K26: 4.6 | L26: 22.5 | M26: 9 | N26: 10 | Q26: 1 | S26: 13 | T26: 3 | U26: 1 | V26: 1 | BH26: =SUM(183+SUM(BF26:BG26)) -> 183 | BI26: =SUM(B26:BG26) -> 187.7 | BJ26: 14.410959 | BK26: 200 | BL26: =ROUND((B26/B8+C26/C8+D26/D8+E26/E8+F26/F8+G26/G8+H26/H8+I26/I8+J26/J8+K26/K8+L26/L8+M26/M8+N26/N8+O26/O8+P26/P8+Q26/Q8+R26/R8+S26/S8+T26/T8+U26/U8+V26/V8+W26/W8+X26/X8+Y26/Y8+Z26/Z8+AA26/AA8+AB26/AB8+AC26/AC8+AD26/AD8+AE26/AE8+AF26/AF8+AG26/AG8+AH26/AH8+AI26/AI8+AJ26/AJ8+AK26/AK8+AL26/AL8+AM26/AM8+AN26/AN8+AO26/AO8+AP26/AP8+AQ26/AQ8+AR26/AR8+AS26/AS8+AT26/AT8+AU26/AU8+AV26/AV8+AW26/AW8+AX26/AX8+AY26/AY8+AZ26/AZ8+BA26/BA8+BB26/BB8+BC26/BC8+BD26/BD8+BE26/BE8+BF26/BF8+BG26/BG8)*100+100/220*(20-((20+20+20+20+20+20+20+20+20+20+20+20+20+20+20+20+20+20+20+20)/100)),2) -> 71.25 | BM26: =BJ26+BL26 -> 85.660959
A27: Matejčić Kristijana | B27: 1.6 | G27: 48.5 | H27: 50 | J27: 4 | L27: 50 | M27: 1 | N27: 7.5 | S27: 5 | T27: 2 | U27: 1 | Z27: 1 | AB27: 2 | AI27: 1 | BF27: 16 | BH27: =SUM(173+SUM(BF27:BG27)) -> 189 | BI27: =SUM(B27:BG27) -> 190.6 | BJ27: 27.506849 | BK27: 219 | BL27: =ROUND((B27/B8+C27/C8+D27/D8+E27/E8+F27/F8+G27/G8+H27/H8+I27/I8+J27/J8+K27/K8+L27/L8+M27/M8+N27/N8+O27/O8+P27/P8+Q27/Q8+R27/R8+S27/S8+T27/T8+U27/U8+V27/V8+W27/W8+X27/X8+Y27/Y8+Z27/Z8+AA27/AA8+AB27/AB8+AC27/AC8+AD27/AD8+AE27/AE8+AF27/AF8+AG27/AG8+AH27/AH8+AI27/AI8+AJ27/AJ8+AK27/AK8+AL27/AL8+AM27/AM8+AN27/AN8+AO27/AO8+AP27/AP8+AQ27/AQ8+AR27/AR8+AS27/AS8+AT27/AT8+AU27/AU8+AV27/AV8+AW27/AW8+AX27/AX8+AY27/AY8+AZ27/AZ8+BA27/BA8+BB27/BB8+BC27/BC8+BD27/BD8+BE27/BE8+BF27/BF8+BG27/BG8)*100+100/220*(1-((5)/100)),2) -> 64.66 | BM27: =BJ27+BL27 -> 92.166849
A28: Mikuljan-Trifoni Oriana | AV28: 208 | AW28: 44 | AX28: 39 | AY28: 15 | BB28: 19 | BC28: 12 | BH28: =SUM(337+SUM(BF28:BG28)) -> 337 | BI28: =SUM(B28:BG28) -> 337 | BJ28: 10 | BK28: 213 | BL28: =ROUND((B28/B8+C28/C8+D28/D8+E28/E8+F28/F8+G28/G8+H28/H8+I28/I8+J28/J8+K28/K8+L28/L8+M28/M8+N28/N8+O28/O8+P28/P8+Q28/Q8+R28/R8+S28/S8+T28/T8+U28/U8+V28/V8+W28/W8+X28/X8+Y28/Y8+Z28/Z8+AA28/AA8+AB28/AB8+AC28/AC8+AD28/AD8+AE28/AE8+AF28/AF8+AG28/AG8+AH28/AH8+AI28/AI8+AJ28/AJ8+AK28/AK8+AL28/AL8+AM28/AM8+AN28/AN8+AO28/AO8+AP28/AP8+AQ28/AQ8+AR28/AR8+AS28/AS8+AT28/AT8+AU28/AU8+AV28/AV8+AW28/AW8+AX28/AX8+AY28/AY8+AZ28/AZ8+BA28/BA8+BB28/BB8+BC28/BC8+BD28/BD8+BE28/BE8+BF28/BF8+BG28/BG8)*100+100/220*(7-((10+10+10+10+10+10+10)/100)),2) -> 52.01 | BM28: =BJ28+BL28 -> 62.01
A29: Oroz Sanja | G29: 55.3 | H29: 62 | I29: 1 | J29: 5 | K29: 3 | L29: 20.6 | M29: 5 | N29: 5 | R29: 1 | S29: 11.6 | W29: 1 | Y29: 1 | AI29: 2 | BH29: =SUM(167+SUM(BF29:BG29)) -> 167 | BI29: =SUM(B29:BG29) -> 173.5 | BJ29: 20 | BK29: 196 | BL29: =ROUND((B29/B8+C29/C8+D29/D8+E29/E8+F29/F8+G29/G8+H29/H8+I29/I8+J29/J8+K29/K8+L29/L8+M29/M8+N29/N8+O29/O8+P29/P8+Q29/Q8+R29/R8+S29/S8+T29/T8+U29/U8+V29/V8+W29/W8+X29/X8+Y29/Y8+Z29/Z8+AA29/AA8+AB29/AB8+AC29/AC8+AD29/AD8+AE29/AE8+AF29/AF8+AG29/AG8+AH29/AH8+AI29/AI8+AJ29/AJ8+AK29/AK8+AL29/AL8+AM29/AM8+AN29/AN8+AO29/AO8+AP29/AP8+AQ29/AQ8+AR29/AR8+AS29/AS8+AT29/AT8+AU29/AU8+AV29/AV8+AW29/AW8+AX29/AX8+AY29/AY8+AZ29/AZ8+BA29/BA8+BB29/BB8+BC29/BC8+BD29/BD8+BE29/BE8+BF29/BF8+BG29/BG8)*100+100/220*(24-((20+20+20+20+20+20+20+20+20+20+20+20+20+20+20+20+20+20+20+20+20+20+20+20)/100)),2) -> 68.86 | BM29: =BJ29+BL29 -> 88.86
A30: Pamić Ćus Marlena | AN30: 43.2 | AP30: 47 | AQ30: 48 | AR30: 27 | AS30: 14.6 | BH30: =SUM(178+SUM(BF30:BG30)) -> 178 | BI30: =SUM(B30:BG30) -> 179.8 | BJ30: 10 | BK30: 210 | BL30: =ROUND((B30/B8+C30/C8+D30/D8+E30/E8+F30/F8+G30/G8+H30/H8+I30/I8+J30/J8+K30/K8+L30/L8+M30/M8+N30/N8+O30/O8+P30/P8+Q30/Q8+R30/R8+S30/S8+T30/T8+U30/U8+V30/V8+W30/W8+X30/X8+Y30/Y8+Z30/Z8+AA30/AA8+AB30/AB8+AC30/AC8+AD30/AD8+AE30/AE8+AF30/AF8+AG30/AG8+AH30/AH8+AI30/AI8+AJ30/AJ8+AK30/AK8+AL30/AL8+AM30/AM8+AN30/AN8+AO30/AO8+AP30/AP8+AQ30/AQ8+AR30/AR8+AS30/AS8+AT30/AT8+AU30/AU8+AV30/AV8+AW30/AW8+AX30/AX8+AY30/AY8+AZ30/AZ8+BA30/BA8+BB30/BB8+BC30/BC8+BD30/BD8+BE30/BE8+BF30/BF8+BG30/BG8)*100+100/220*(10-((10+10+10+10+10+10+10+10+10+10)/100)),2) -> 75.78 | BM30: =BJ30+BL30 -> 85.78
A31: Pekas Emina | U31: 6 | AI31: 1 | BH31: =SUM(7+SUM(BF31:BG31)) -> 7 | BI31: =SUM(B31:BG31) -> 7 | BJ31: 0 | BK31: 183 | BL31: =ROUND((B31/B8+C31/C8+D31/D8+E31/E8+F31/F8+G31/G8+H31/H8+I31/I8+J31/J8+K31/K8+L31/L8+M31/M8+N31/N8+O31/O8+P31/P8+Q31/Q8+R31/R8+S31/S8+T31/T8+U31/U8+V31/V8+W31/W8+X31/X8+Y31/Y8+Z31/Z8+AA31/AA8+AB31/AB8+AC31/AC8+AD31/AD8+AE31/AE8+AF31/AF8+AG31/AG8+AH31/AH8+AI31/AI8+AJ31/AJ8+AK31/AK8+AL31/AL8+AM31/AM8+AN31/AN8+AO31/AO8+AP31/AP8+AQ31/AQ8+AR31/AR8+AS31/AS8+AT31/AT8+AU31/AU8+AV31/AV8+AW31/AW8+AX31/AX8+AY31/AY8+AZ31/AZ8+BA31/BA8+BB31/BB8+BC31/BC8+BD31/BD8+BE31/BE8+BF31/BF8+BG31/BG8)*100+100/220*(37-((0+0+0+0+0+0+0+0+0+0+0+0+0+0+0+0+0+0+0+0+0+0+0+0+0+0+0+0+0+0+0+0+0+0+0+0+0)/100)),2) -> 18.78 | BM31: =BJ31+BL31 -> 18.78
A32: Pilato Sandra | G32: 16.6 | H32: 1 | J32: 2.6 | L32: 7 | M32: 5 | N32: 6 | U32: 45 | V32: 20 | X32: 29 | Z32: 6.6 | AA32: 12.6 | AB32: 16.4 | AG32: 3 | AI32: 29 | AK32: 352 | AL32: 7 | AM32: 6 | BF32: 7 | BH32: =SUM(560+SUM(BF32:BG32)) -> 567 | BI32: =SUM(B32:BG32) -> 571.8 | BJ32: 0 | BK32: 212 | BL32: =ROUND((B32/B8+C32/C8+D32/D8+E32/E8+F32/F8+G32/G8+H32/H8+I32/I8+J32/J8+K32/K8+L32/L8+M32/M8+N32/N8+O32/O8+P32/P8+Q32/Q8+R32/R8+S32/S8+T32/T8+U32/U8+V32/V8+W32/W8+X32/X8+Y32/Y8+Z32/Z8+AA32/AA8+AB32/AB8+AC32/AC8+AD32/AD8+AE32/AE8+AF32/AF8+AG32/AG8+AH32/AH8+AI32/AI8+AJ32/AJ8+AK32/AK8+AL32/AL8+AM32/AM8+AN32/AN8+AO32/AO8+AP32/AP8+AQ32/AQ8+AR32/AR8+AS32/AS8+AT32/AT8+AU32/AU8+AV32/AV8+AW32/AW8+AX32/AX8+AY32/AY8+AZ32/AZ8+BA32/BA8+BB32/BB8+BC32/BC8+BD32/BD8+BE32/BE8+BF32/BF8+BG32/BG8)*100+100/220*(8-((0+0+0+0+0+0+0+0)/100)),2) -> 65.75 | BM32: =BJ32+BL32 -> 65.75
A33: Radanović Tihana | U33: 1 | V33: 1 | AI33: 1 | BH33: =SUM(3+SUM(BF33:BG33)) -> 3 | BI33: =SUM(B33:BG33) -> 3 | BJ33: 0 | BK33: 217 | BL33: =ROUND((B33/B8+C33/C8+D33/D8+E33/E8+F33/F8+G33/G8+H33/H8+I33/I8+J33/J8+K33/K8+L33/L8+M33/M8+N33/N8+O33/O8+P33/P8+Q33/Q8+R33/R8+S33/S8+T33/T8+U33/U8+V33/V8+W33/W8+X33/X8+Y33/Y8+Z33/Z8+AA33/AA8+AB33/AB8+AC33/AC8+AD33/AD8+AE33/AE8+AF33/AF8+AG33/AG8+AH33/AH8+AI33/AI8+AJ33/AJ8+AK33/AK8+AL33/AL8+AM33/AM8+AN33/AN8+AO33/AO8+AP33/AP8+AQ33/AQ8+AR33/AR8+AS33/AS8+AT33/AT8+AU33/AU8+AV33/AV8+AW33/AW8+AX33/AX8+AY33/AY8+AZ33/AZ8+BA33/BA8+BB33/BB8+BC33/BC8+BD33/BD8+BE33/BE8+BF33/BF8+BG33/BG8)*100+100/220*(3-((0+0+0)/100)),2) -> 1.96 | BM33: =BJ33+BL33 -> 1.96
A34: Radić Helena | G34: 4 | H34: 26 | L34: 17 | U34: 21 | V34: 14 | Z34: 3 | AA34: 14.6 | AB34: 2.6 | AC34: 1 | AD34: 2 | AI34: 10 | AK34: 60 | BF34: 10 | BH34: =SUM(174+SUM(BF34:BG34)) -> 184 | BI34: =SUM(B34:BG34) -> 185.2 | BJ34: 0 | BK34: 152 | BL34: =ROUND((B34/B8+C34/C8+D34/D8+E34/E8+F34/F8+G34/G8+H34/H8+I34/I8+J34/J8+K34/K8+L34/L8+M34/M8+N34/N8+O34/O8+P34/P8+Q34/Q8+R34/R8+S34/S8+T34/T8+U34/U8+V34/V8+W34/W8+X34/X8+Y34/Y8+Z34/Z8+AA34/AA8+AB34/AB8+AC34/AC8+AD34/AD8+AE34/AE8+AF34/AF8+AG34/AG8+AH34/AH8+AI34/AI8+AJ34/AJ8+AK34/AK8+AL34/AL8+AM34/AM8+AN34/AN8+AO34/AO8+AP34/AP8+AQ34/AQ8+AR34/AR8+AS34/AS8+AT34/AT8+AU34/AU8+AV34/AV8+AW34/AW8+AX34/AX8+AY34/AY8+AZ34/AZ8+BA34/BA8+BB34/BB8+BC34/BC8+BD34/BD8+BE34/BE8+BF34/BF8+BG34/BG8)*100+100/220*(68-((0+0+0+0+0+0+0+0+0+0+0+0+0+0+0+0+0+0+0+0+0+0+0+0+0+0+0+0+0+0+0+0+0+0+0+0+0+0+0+0+0+0+0+0+0+0+0+0+0+0+0+0+0+0+0+0+0+0+0+0+0+0+0+0+0+0+0+0)/100)),2) -> 61.7 | BM34: =BJ34+BL34 -> 61.7
A35: Radolović Emanuel | G35: 12.2 | L35: 5.6 | M35: 2 | N35: 2.6 | T35: 3 | BF35: 35 | BH35: =SUM(23+SUM(BF35:BG35)) -> 58 | BI35: =SUM(B35:BG35) -> 60.4 | BJ35: 100 | BK35: 214 | BL35: =ROUND((B35/B8+C35/C8+D35/D8+E35/E8+F35/F8+G35/G8+H35/H8+I35/I8+J35/J8+K35/K8+L35/L8+M35/M8+N35/N8+O35/O8+P35/P8+Q35/Q8+R35/R8+S35/S8+T35/T8+U35/U8+V35/V8+W35/W8+X35/X8+Y35/Y8+Z35/Z8+AA35/AA8+AB35/AB8+AC35/AC8+AD35/AD8+AE35/AE8+AF35/AF8+AG35/AG8+AH35/AH8+AI35/AI8+AJ35/AJ8+AK35/AK8+AL35/AL8+AM35/AM8+AN35/AN8+AO35/AO8+AP35/AP8+AQ35/AQ8+AR35/AR8+AS35/AS8+AT35/AT8+AU35/AU8+AV35/AV8+AW35/AW8+AX35/AX8+AY35/AY8+AZ35/AZ8+BA35/BA8+BB35/BB8+BC35/BC8+BD35/BD8+BE35/BE8+BF35/BF8+BG35/BG8)*100+100/220*(6-((100+100+100+100+100+100)/100)),2) -> 18.68 | BM35: =BJ35+BL35 -> 118.68
A36: Raguž Zupičić Zdenka | G36: 39.8 | H36: 9 | J36: 4 | K36: 2 | L36: 45 | M36: 2 | N36: 2.6 | S36: 21 | T36: 1 | U36: 1 | V36: 1 | AI36: 2 | BH36: =SUM(125+SUM(BF36:BG36)) -> 125 | BI36: =SUM(B36:BG36) -> 130.4 | BJ36: 29.986301 | BK36: 219 | BL36: =ROUND((B36/B8+C36/C8+D36/D8+E36/E8+F36/F8+G36/G8+H36/H8+I36/I8+J36/J8+K36/K8+L36/L8+M36/M8+N36/N8+O36/O8+P36/P8+Q36/Q8+R36/R8+S36/S8+T36/T8+U36/U8+V36/V8+W36/W8+X36/X8+Y36/Y8+Z36/Z8+AA36/AA8+AB36/AB8+AC36/AC8+AD36/AD8+AE36/AE8+AF36/AF8+AG36/AG8+AH36/AH8+AI36/AI8+AJ36/AJ8+AK36/AK8+AL36/AL8+AM36/AM8+AN36/AN8+AO36/AO8+AP36/AP8+AQ36/AQ8+AR36/AR8+AS36/AS8+AT36/AT8+AU36/AU8+AV36/AV8+AW36/AW8+AX36/AX8+AY36/AY8+AZ36/AZ8+BA36/BA8+BB36/BB8+BC36/BC8+BD36/BD8+BE36/BE8+BF36/BF8+BG36/BG8)*100+100/220*(1-((35)/100)),2) -> 52.51 | BM36: =BJ36+BL36 -> 82.496301
A37: Rančić Lucija | G37: 2 | H37: 1 | L37: 2 | M37: 5 | U37: 38 | V37: 13 | X37: 47 | Z37: 7 | AA37: 14.6 | AB37: 22.2 | AC37: 1.6 | AE37: 10.2 | AF37: 1 | AG37: 4 | AH37: 1 | AI37: 39 | AK37: 510 | AL37: 3 | AM37: 11 | BF37: 2 | BH37: =SUM(726+SUM(BF37:BG37)) -> 728 | BI37: =SUM(B37:BG37) -> 734.6 | BJ37: 0 | BK37: 216 | BL37: =ROUND((B37/B8+C37/C8+D37/D8+E37/E8+F37/F8+G37/G8+H37/H8+I37/I8+J37/J8+K37/K8+L37/L8+M37/M8+N37/N8+O37/O8+P37/P8+Q37/Q8+R37/R8+S37/S8+T37/T8+U37/U8+V37/V8+W37/W8+X37/X8+Y37/Y8+Z37/Z8+AA37/AA8+AB37/AB8+AC37/AC8+AD37/AD8+AE37/AE8+AF37/AF8+AG37/AG8+AH37/AH8+AI37/AI8+AJ37/AJ8+AK37/AK8+AL37/AL8+AM37/AM8+AN37/AN8+AO37/AO8+AP37/AP8+AQ37/AQ8+AR37/AR8+AS37/AS8+AT37/AT8+AU37/AU8+AV37/AV8+AW37/AW8+AX37/AX8+AY37/AY8+AZ37/AZ8+BA37/BA8+BB37/BB8+BC37/BC8+BD37/BD8+BE37/BE8+BF37/BF8+BG37/BG8)*100+100/220*(4-((0+0+0+0)/100)),2) -> 60.9 | BM37: =BJ37+BL37 -> 60.9
A38: Ruso Goran | H38: 1 | U38: 4 | V38: 1 | Y38: 1 | AB38: 4.2 | AG38: 1.6 | AI38: 17 | AK38: 52 | AL38: 1 | AM38: 2 | BH38: =SUM(83+SUM(BF38:BG38)) -> 83 | BI38: =SUM(B38:BG38) -> 84.8 | BJ38: 0 | BK38: 220 | BL38: =ROUND((B38/B8+C38/C8+D38/D8+E38/E8+F38/F8+G38/G8+H38/H8+I38/I8+J38/J8+K38/K8+L38/L8+M38/M8+N38/N8+O38/O8+P38/P8+Q38/Q8+R38/R8+S38/S8+T38/T8+U38/U8+V38/V8+W38/W8+X38/X8+Y38/Y8+Z38/Z8+AA38/AA8+AB38/AB8+AC38/AC8+AD38/AD8+AE38/AE8+AF38/AF8+AG38/AG8+AH38/AH8+AI38/AI8+AJ38/AJ8+AK38/AK8+AL38/AL8+AM38/AM8+AN38/AN8+AO38/AO8+AP38/AP8+AQ38/AQ8+AR38/AR8+AS38/AS8+AT38/AT8+AU38/AU8+AV38/AV8+AW38/AW8+AX38/AX8+AY38/AY8+AZ38/AZ8+BA38/BA8+BB38/BB8+BC38/BC8+BD38/BD8+BE38/BE8+BF38/BF8+BG38/BG8)*100+0,2) -> 9.42 | BM38: =BJ38+BL38 -> 9.42
A39: Skok Martina | M39: 1 | U39: 1 | AK39: 12 | BH39: =SUM(14+SUM(BF39:BG39)) -> 14 | BI39: =SUM(B39:BG39) -> 14 | BJ39: 0 | BK39: 57 | BL39: =ROUND((B39/B8+C39/C8+D39/D8+E39/E8+F39/F8+G39/G8+H39/H8+I39/I8+J39/J8+K39/K8+L39/L8+M39/M8+N39/N8+O39/O8+P39/P8+Q39/Q8+R39/R8+S39/S8+T39/T8+U39/U8+V39/V8+W39/W8+X39/X8+Y39/Y8+Z39/Z8+AA39/AA8+AB39/AB8+AC39/AC8+AD39/AD8+AE39/AE8+AF39/AF8+AG39/AG8+AH39/AH8+AI39/AI8+AJ39/AJ8+AK39/AK8+AL39/AL8+AM39/AM8+AN39/AN8+AO39/AO8+AP39/AP8+AQ39/AQ8+AR39/AR8+AS39/AS8+AT39/AT8+AU39/AU8+AV39/AV8+AW39/AW8+AX39/AX8+AY39/AY8+AZ39/AZ8+BA39/BA8+BB39/BB8+BC39/BC8+BD39/BD8+BE39/BE8+BF39/BF8+BG39/BG8)*100+100/220*(163-((0+0+0+0+0+0+0+0+0+0+0+0+0+0+0+0+0+0+0+0+0+0+0+0+0+0+0+0+0+0+0+0+0+0+0+0+0+0+0+0+0+0+0+0+0+0+0+0+0+0+0+0+0+0+0+0+0+0+0+0+0+0+0+0+0+0+0+0+0+0+0+0+0+0+0+0+0+0+0+0+0+0+0+0+0+0+0+0+0+0+0+0+0+0+0+0+0+0+0+0+0+0+0+0+0+0+0+0+0+0+0+0+0+0+0+0+0+0+0+0+0+0+0+0+0+0+0+0+0+0+0+0+0+0+0+0+0+0+0+0+0+0+0+0+0+0+0+0+0+0+0+0+0+0+0+0+0+0+0+0+0+0+0)/100)),2) -> 74.74 | BM39: =BJ39+BL39 -> 74.74
